BEGIN:VCALENDAR
VERSION:2.0
PRODID:-//wp-events-plugin.com//7.2.3.1//EN
BEGIN:VEVENT
UID:344@transportminutes.eu
DTSTART;TZID=Europe/Prague:20250322T091500
DTEND;TZID=Europe/Prague:20250322T170000
DTSTAMP:20250320T195952Z
URL:https://www.transportminutes.eu/events/zvlastni-vlaky-na-vystavu-for-m
 odel/
SUMMARY:Zvláštní vlaky na výstavu For Model
DESCRIPTION:Stejně jako v předchozích letech i letos proběhnou oblíben
 é jízdy zvláštních vlaků u příležitosti výstavy For Model Olomou
 c\, a to v sobotu 22. března. Zvláštní vlaky v čele s unikátní moto
 rovou lokomotivou Pilštyk z roku 1973 vyrážejí několikrát denně\, c
 estující si tak snadno vyberou čas\, který bude nejlépe vyhovovat. Z 
 hlavního nádraží budou odjíždět v 9:30\, 11:30\, 13:30 a 15:30 hod.
  a do stanice Olomouc-Řepčín dorazí v 9:47\, 11:47\, 13:47 a 15:47 hod
 .\n\nPo krátké desetiminutové pauze se vydají zpět a na olomoucké hl
 avní nádraží dorazí v 10:14\, 12:14\, 14:14 a 16:14 hod. Všechny vla
 ky budou zastavovat také na zastávkách Olomouc město a Olomouc-Nová U
 lice\, odkud je to jen pár kroků k výstavišti.\n\nJízdenky bude možn
 é zakoupit u personálu zvláštních vlaků. Platba je možná pouze v h
 otovosti.
ATTACH;FMTTYPE=image/jpeg:https://i0.wp.com/www.transportminutes.eu/wp-con
 tent/uploads/2025/03/Motorova_lokomotiva_T466-0007_Pilstyk.webp?fit=2048%2
 C1536&ssl=1
CATEGORIES:Dopravní nostalgie
LOCATION:http://Web%20události
END:VEVENT
BEGIN:VTIMEZONE
TZID:Europe/Prague
X-LIC-LOCATION:Europe/Prague
BEGIN:STANDARD
DTSTART:20241027T020000
TZOFFSETFROM:+0200
TZOFFSETTO:+0100
TZNAME:CET
END:STANDARD
END:VTIMEZONE
END:VCALENDAR