BEGIN:VCALENDAR
VERSION:2.0
PRODID:-//wp-events-plugin.com//7.2.3.1//EN
BEGIN:VEVENT
UID:192@transportminutes.eu
DTSTART;TZID=Europe/Vienna:20230905T090000
DTEND;TZID=Europe/Vienna:20230909T180000
DTSTAMP:20230904T182453Z
URL:https://www.transportminutes.eu/events/veletrh-budoucnosti-regionalni-
 dopravy/
SUMMARY:Veletrh budoucnosti regionální dopravy
DESCRIPTION:Integrace a budoucnost regionální dopravy v Německu
CATEGORIES:Doprava,Veletrh
LOCATION:Berlin Gleisdreieck\, Luckenwalder 4-6\, Berlin\, 10963\, Nemecko
GEO:52.498509;13.374689
X-APPLE-STRUCTURED-LOCATION;VALUE=URI;X-ADDRESS=Luckenwalder 4-6\, Berlin\,
  10963\, Nemecko;X-APPLE-RADIUS=100;X-TITLE=Berlin Gleisdreieck:geo:52.498
 509,13.374689
END:VEVENT
BEGIN:VTIMEZONE
TZID:Europe/Vienna
X-LIC-LOCATION:Europe/Vienna
BEGIN:DAYLIGHT
DTSTART:20230326T030000
TZOFFSETFROM:+0100
TZOFFSETTO:+0200
TZNAME:CEST
END:DAYLIGHT
END:VTIMEZONE
END:VCALENDAR