BEGIN:VCALENDAR
VERSION:2.0
PRODID:-//wp-events-plugin.com//7.2.3.1//EN
BEGIN:VEVENT
UID:371@transportminutes.eu
DTSTART;TZID=Europe/Vienna:20260108T080000
DTEND;TZID=Europe/Vienna:20260111T170000
DTSTAMP:20251220T113937Z
URL:https://www.transportminutes.eu/events/vakantiebeurs-2/
SUMMARY:Vakantiebeurs
DESCRIPTION:Veletrh cestovního ruchu
CATEGORIES:Veletrh
LOCATION:Jaarbeurs Utrecht\, Jaarbeursplein 6\, Utrecht\, Utrecht\, 3521\, 
 Holandsko
GEO:52.088256;5.107311
X-APPLE-STRUCTURED-LOCATION;VALUE=URI;X-ADDRESS=Jaarbeursplein 6\, Utrecht\
 , Utrecht\, 3521\, Holandsko;X-APPLE-RADIUS=100;X-TITLE=Jaarbeurs Utrecht:
 geo:52.088256,5.107311
END:VEVENT
BEGIN:VTIMEZONE
TZID:Europe/Vienna
X-LIC-LOCATION:Europe/Vienna
BEGIN:STANDARD
DTSTART:20251026T020000
TZOFFSETFROM:+0200
TZOFFSETTO:+0100
TZNAME:CET
END:STANDARD
END:VTIMEZONE
END:VCALENDAR