BEGIN:VCALENDAR
VERSION:2.0
PRODID:-//wp-events-plugin.com//7.2.3.1//EN
BEGIN:VEVENT
UID:191@transportminutes.eu
DTSTART;TZID=Europe/Vienna:20231123T100000
DTEND;TZID=Europe/Vienna:20231125T180000
DTSTAMP:20230904T110051Z
URL:https://www.transportminutes.eu/events/tt-warsaw/
SUMMARY:TT WARSAW
DESCRIPTION:Mezinárodní veletrh cestovního ruchu
CATEGORIES:Veletrh,Doprava
LOCATION:Ptak Warsaw Expo\, Aleja Katowicka 62\, Nadarzyn\, 05-830\, Polsko
GEO:52.107183;20.833741
X-APPLE-STRUCTURED-LOCATION;VALUE=URI;X-ADDRESS=Aleja Katowicka 62\, Nadarz
 yn\, 05-830\, Polsko;X-APPLE-RADIUS=100;X-TITLE=Ptak Warsaw Expo:geo:52.10
 7183,20.833741
END:VEVENT
BEGIN:VTIMEZONE
TZID:Europe/Vienna
X-LIC-LOCATION:Europe/Vienna
BEGIN:STANDARD
DTSTART:20231029T020000
TZOFFSETFROM:+0200
TZOFFSETTO:+0100
TZNAME:CET
END:STANDARD
END:VTIMEZONE
END:VCALENDAR