BEGIN:VCALENDAR
VERSION:2.0
PRODID:-//wp-events-plugin.com//7.2.3.1//EN
BEGIN:VEVENT
UID:83@transportminutes.eu
DTSTART:20220904T080000Z
DTEND:20220904T150000Z
DTSTAMP:20220910T175120Z
URL:https://www.transportminutes.eu/events/svezte-se-historickym-vlakem-na
 -vylet-do-lednice-2022-09-04/
SUMMARY:Svezte se historickým vlakem na výlet do Lednice!
DESCRIPTION:Vydejte se do Lednicko-valtického areálu nostalgickým vlakem
 ! Od 30. dubna do 4. září jezdí o víkendech a státních svátcích z
 &nbsp\;Břeclavi do Lednice historický motoráček Hurvínek. V rámci ak
 ce Lednické parní léto ho o sobotách 21. května a 10. září nahrad
 í parní vlak s lokomotivou Skaličák\, vozy Rybáky a historickým rest
 auračním vozem.\nPro dokonalé spojení přírodních krás a romantick
 ých staveb se Lednicko-valtickému areálu přezdívá Zahrada Evropy. V
 ýlet do této malebné krajiny na jihu Moravy si můžete zpestřit jízd
 ou nostalgickým vlakem.\nOd 30. dubna do 4. září vás o víkendech a s
 vátcích mezi Břeclaví a Lednicí sveze historický motoráček z&nbsp\
 ;50. let minulého století\, tzv. Hurvínek (M 131.1.). O sobotách 21. k
 větna a 10. září ho nahradí parní vlak s&nbsp\;lokomotivou Skaličá
 k (433.001)\, vozy Rybáky a historickým restauračním vozem.\n\nNostalg
 ické vlaky odjíždějí z břeclavského nádraží v&nbsp\;9:23\, 11:23
 \, 13:11 a 15:11 hod.\, z&nbsp\;Lednice se vydají na zpáteční jízdu v
 &nbsp\;10:20\, 12:20\, 14:10 a 16:10 hod. Jízdenky na tyto vlaky lze koup
 it v předprodeji od 16. dubna 2022.&nbsp\;\n\nJednosměrná jízdenka do 
 motoráčku stojí 40 Kč\, za jízdní kolo zaplatíte také 40 Kč a za 
 psa 20 Kč. Jedna jízda v&nbsp\;parním vlaku (21. 5. a 10. 9.) vyjde na 
 100 Kč\, jízdenku pro cestu oběma směry pořídíte za 180 Kč.\n\nPro
  cestující 6–18 let\, žáky a studenty 18–26 let\, cestující 65+ 
 a ode dne vyhlášení osoby pobírající invalidní důchod třetího st
 upně platí sleva 50 %. Držitelé průkazů ZTP a ZTP/P mohou uplatnit s
 levu 75 %.\nZatímco v historickém motorovém voze je možné přepravova
 t jízdní kola\, v&nbsp\;parních vlacích je přeprava jízdních kol vy
 loučena.\nA na co se můžete těšit? Obec Lednice\, která bývá práv
 em nazývána perlou jižní Moravy\, vás uchvátí spoustou přírodníc
 h i kulturních památek\, kolonádami\, rybníky a řadou drobných roman
 tických staveb.\n\nLednický zámek je jedním z nejkrásnějších kompl
 exů anglické novogotiky v Evropě. V jeho okolí se nachází nejrozsáh
 lejší parkově upravená krajina na světě\, která je zapsána na sezn
 am světového přírodního a kulturního dědictví UNESCO.&nbsp\;\n\nNe
 vynechejte ani návštěvu muzea Lednice dávná s&nbsp\;výstavou věnova
 nou období první republiky nebo Muzea hraček Lednice\, jehož nejstarš
 í exponát&nbsp\;– puzzle – pochází z&nbsp\;roku 1790.\n\nV&nbsp\;d
 obě jízdy parního vlaku se také můžete svézt historickým „Busík
 em“ Praga RND\, který bude odjíždět z&nbsp\;označeného stanovišt
 ě před nádražní budovou v&nbsp\;Lednici v&nbsp\;9:55\, 11:55 a 13:45 
 hod.\,&nbsp\;nebo si pochutnat na grilovaných a zvěřinových specialit
 ách z&nbsp\;místního penzionu Myslivna.\n\nZměna nasazení historický
 ch vozidel vyhrazena.
ATTACH;FMTTYPE=image/jpeg:https://i0.wp.com/www.transportminutes.eu/wp-con
 tent/uploads/2022/07/Luzna_u_Rakovnika_motorovy_vuz_M_131.1238.jpg?fit=120
 0%2C900&ssl=1
CATEGORIES:Dopravní nostalgie
LOCATION:Nádraží Břeclav\, Sady 28 října 3491\, Břeclav\, 690 02\, 
 Česká republika
GEO:48.753603;16.890879
X-APPLE-STRUCTURED-LOCATION;VALUE=URI;X-ADDRESS=Sady 28 října 3491\, Bře
 clav\, 690 02\, Česká republika;X-APPLE-RADIUS=100;X-TITLE=Nádraží B
 řeclav:geo:48.753603,16.890879
END:VEVENT
END:VCALENDAR