BEGIN:VCALENDAR
VERSION:2.0
PRODID:-//wp-events-plugin.com//7.2.3.1//EN
BEGIN:VEVENT
UID:352@transportminutes.eu
DTSTART;TZID=Europe/Vienna:20251118T090000
DTEND;TZID=Europe/Vienna:20251122T170000
DTSTAMP:20250429T190634Z
URL:https://www.transportminutes.eu/events/solutrans/
SUMMARY:SOLUTRANS
DESCRIPTION:Mezinárodní výstava pro silniční a městské dopravní ře
 šení
CATEGORIES:Výstavy
LOCATION:Bd de l'Europe\, Lyon\, Chassieu\, Lyon\, 69680\, Francie
X-APPLE-STRUCTURED-LOCATION;VALUE=URI;X-ADDRESS=Chassieu\, Lyon\, 69680\, F
 rancie;X-APPLE-RADIUS=100;X-TITLE=Bd de l'Europe\, Lyon:geo:0,0
END:VEVENT
BEGIN:VTIMEZONE
TZID:Europe/Vienna
X-LIC-LOCATION:Europe/Vienna
BEGIN:STANDARD
DTSTART:20251026T020000
TZOFFSETFROM:+0200
TZOFFSETTO:+0100
TZNAME:CET
END:STANDARD
END:VTIMEZONE
END:VCALENDAR