BEGIN:VCALENDAR
VERSION:2.0
PRODID:-//wp-events-plugin.com//7.2.3.1//EN
BEGIN:VEVENT
UID:240@transportminutes.eu
DTSTART;TZID=Europe/Madrid:20240422T090000
DTEND;TZID=Europe/Madrid:20240425T170000
DTSTAMP:20231105T123535Z
URL:https://www.transportminutes.eu/events/salon-gourmets-2/
SUMMARY:SALÓN GOURMETS
DESCRIPTION:Mezinárodní gourmetský veletrh kvalitních potravin a nápoj
 ů
CATEGORIES:Veletrh
LOCATION:IFEMA - Feria de Madrid\, Avda. del Partenón 5\, Madrid\, 28042\,
  Španělsko
GEO:40.464228;-3.613133
X-APPLE-STRUCTURED-LOCATION;VALUE=URI;X-ADDRESS=Avda. del Partenón 5\, Mad
 rid\, 28042\, Španělsko;X-APPLE-RADIUS=100;X-TITLE=IFEMA - Feria de Madr
 id:geo:40.464228,-3.613133
END:VEVENT
BEGIN:VTIMEZONE
TZID:Europe/Madrid
X-LIC-LOCATION:Europe/Madrid
BEGIN:DAYLIGHT
DTSTART:20240331T030000
TZOFFSETFROM:+0100
TZOFFSETTO:+0200
TZNAME:CEST
END:DAYLIGHT
END:VTIMEZONE
END:VCALENDAR