BEGIN:VCALENDAR
VERSION:2.0
PRODID:-//wp-events-plugin.com//7.2.3.1//EN
BEGIN:VEVENT
UID:342@transportminutes.eu
DTSTART;TZID=Europe/Vienna:20250321T090000
DTEND;TZID=Europe/Vienna:20250322T163000
DTSTAMP:20250304T063337Z
URL:https://www.transportminutes.eu/events/s-parou-na-josefsky-jarmark-v-r
 oznove-pod-radhostem/
SUMMARY:S párou na Josefský jarmark v Rožnově pod Radhoštěm
DESCRIPTION:Nenechte si ujít příležitost svézt se letos poprvé zvlá
 štním parním vlakem. Kdy a kam? V sobotu 22. března vás parní vlak z
 aveze z Valašského Meziříčí do Rožnova pod Radhoštěm\, kde se kon
 á tradiční Josefský jarmark plný řemesel\, folklóru a jedinečné a
 tmosféry. V čele historických vozů bývalé třetí třídy s dřevěn
 ými sedadly pojede legendární parní lokomotiva Velký bejček (423.041
 ) z roku 1924.\n\nVe spolupráci s městem Rožnov pod Radhoštěm jsme i 
 letos připravili sérii nostalgických jízd parních vlaků mezi Valašs
 kým Meziříčím a Rožnovem pod Radhoštěm\, kdy každá z jízd bude 
 spojena se zajímavým kulturním programem.\n\nPrvní vlak vyrazí na tra
 ť už v sobotu 22. března\, tedy mnohem dříve\, než bývalo v minulý
 ch letech zvykem. Navazujeme tak na dlouholetou tradici parních jízd k J
 osefskému jarmarku v Rožnově pod Radhoštěm\, která se po čase opě
 t vrací.\n\nTradiční Josefský jarmark oživí Masarykovo náměstí v 
 Rožnově pod Radhoštěm v pátek 21. a v sobotu 22. března. Těšit se 
 můžete na více než 80 stánků s rukodělnými výrobky\, jarmareční
 mi dobrotami a regionálními specialitami.\n\nZapomenuto nezůstalo ani n
 a děti – připravena bude kreativní dílna\, kde si mohou vlastnoručn
 ě vyrobit drobnost na památku. Atmosféru doladí živá hudba napříč
  žánry – od cimbálové muziky přes folk a country až po jazz-swing 
 a rock. Více informací o jarmarku najdete zde.\nSvezte se parním vlake
 m\nA právě na tuto tradiční akci vás letos svezeme z Valašského Me
 ziříčí parním vlakem. Ten vyrazí na trať hned dvakrát (oběma smě
 ry)\, takže si můžete vybrat spoj\, který vám nejlépe vyhovuje.\n\nZ
  Valašského Meziříčí odjede první ranní vlak v 9:45 hod. a do Rož
 nova pod Radhoštěm dorazí v 10:12 hod. Na zpáteční jízdu se vydá z
  Rožnova v 11:32 hod. a do Valašského Meziříčí s ním přijedete ve
  12:01 hod.\n\nDalší jízdu zahájí parní vlak ve 13:20 hod\, kdy vyra
 zí z Valašského Meziříčí do Rožnova (příj. 13:47 hod.). Z Rožn
 ova se vlak vrací zpět v 16:07 hod. a do Valašského Meziříčí doraz
 í v 16:34 hod. Všechny vlaky zastaví také v Zašové a Zubří.\n\nB
 ěhem jízdy nemusíte zůstat ani o hladu. Součástí soupravy totiž bu
 de historický bufetový vůz s nabídkou občerstvení.\nKolik zaplatít
 e za jedinečný zážitek?\nSkvělou zprávou je\, že i přes nemalé n
 áklady na údržbu a provoz stoleté parní dámy držíme ceny jízdenek
  pro děti stále na stejné úrovni jako v předchozích letech. A co ví
 c? Děti do 6 let (bez nároku na místo k sezení) cestují dokonce zcela
  zdarma.\n\nUžijte si kouzlo nostalgické jízdy s celou rodinou a dopře
 jte dětem nezapomenutelný zážitek. Jednosměrné jízdné stojí pro d
 ospělé 140 Kč\, děti od 6 do 15 let cestují za 70 Kč.\n\nVlaky jsou 
 s povinnou rezervací místa k sezení\, přičemž při zakoupení jíz
 denky je místenka už její součástí. Zajistěte si tak své místo ve
  vlaku včas.\n\n\n\ntam\n\n\nstanice\npříjezd\nodjezd\npříjezd\nodjez
 d\n\n\nValašské Meziříčí\n\n9:45\n\n13:20\n\n\nZašová\n9:54\n9:55\
 n13:30\n13:31\n\n\nZubří\n10:04\n10:05\n13:40\n13:41\n\n\nRožnov pod Ra
 dhoštěm\n10:12\n\n13:47\n\n\n\n\nzpět\n\n\n\nstanice\npříjezd\nodjezd
 \npříjezd\nodjezd\n\n\nRožnov pod Radhoštěm\n\n11:32\n\n16:07\n\n\nZu
 bří\n11:38\n11:39\n16:13\n16:14\n\n\nZašová\n11:51\n11:52\n16:24\n16:2
 5\n\n\nValašské Meziříčí\n12:01\n\n16:34\n\n\n\n\nKde koupit jízden
 ky?\nJízdenky s rezervací místa lze zakoupit v předprodeji v jakékoli
 v pokladně Českých drah nebo online na e-shopu ČD od vyhlášení prod
 eje. Otevírací doby stanic si můžete vyhledat zde.\n\nJiné slevy\, z
 aměstnanecké jízdné\, jízdenky IDS nebo OneTicket se neuznávají. P
 řeprava dětských kočárků je možná do vyčerpání kapacity ve slu
 žebním voze\, přeprava jízdních kol je vyloučena.\n\nOstatní přepr
 avní podmínky se řídí Smluvními přepravními podmínkami Českých 
 drah pro veřejnou drážní osobní dopravu a Tarifem Českých drah pro 
 vnitrostátní přepravu cestujících a zavazadel.\nRožnovská pára 202
 5\nDalší termíny jízd Rožnovské páry 2025 jsou v jednání\, ale u
 ž nyní vám některé z nich můžeme prozradit:\n\n 	21. června – R
 ožnov mě baví (zábavný den v městském parku\, více informací o a
 kci zde)\,\n 	9. srpna – Jánošíkov dukát (26. ročník Mezinárodn
 ího festivalu slovenského folkloru v ČR\, více informací o akci zde
 )\,\n 	13. prosince – Rožnovský vánoční expres.\n\nZměna jízdníh
 o řádu a nasazení vozidel je vyhrazena.\n\n&nbsp\;
ATTACH;FMTTYPE=image/jpeg:https://i0.wp.com/www.transportminutes.eu/wp-con
 tent/uploads/2025/03/Velky-Bejcek_c_Josef-Vendolsky.webp?fit=960%2C960&ssl
 =1
CATEGORIES:Dopravní nostalgie
LOCATION:https://www.cd.cz/vlakem-na-vylet/vylet/valasske-mezirici-roznov-p
 od-radhostem/s-parou-na-josefsky-jarmark-v-roznove-pod-radhostem/18561
END:VEVENT
BEGIN:VTIMEZONE
TZID:Europe/Vienna
X-LIC-LOCATION:Europe/Vienna
BEGIN:STANDARD
DTSTART:20241027T020000
TZOFFSETFROM:+0200
TZOFFSETTO:+0100
TZNAME:CET
END:STANDARD
END:VTIMEZONE
END:VCALENDAR