BEGIN:VCALENDAR
VERSION:2.0
PRODID:-//wp-events-plugin.com//7.2.3.1//EN
BEGIN:VEVENT
UID:343@transportminutes.eu
DTSTART;TZID=Europe/Prague:20250322T094500
DTEND;TZID=Europe/Prague:20250322T174500
DTSTAMP:20250320T195749Z
URL:https://www.transportminutes.eu/events/s-parou-do-roznova-pod-radhoste
 m/
SUMMARY:S párou do Rožnova pod Radhoštěm
DESCRIPTION:\n\n\n\nHistorická souprava vyrazí v sobotu na trať oběma s
 měry hned dvakrát. Z Valašského Meziříčí odjede první ranní vlak
  v 9:45 hod. a do Rožnova pod Radhoštěm dorazí v 10:12 hod. Na zpáte
 ční jízdu se vydá z Rožnova v 11:32 hod. a do Valašského Meziříč
 í přijede ve 12:01 hod. Další jízdu zahájí parní vlak ve 13:20 hod
 .\, kdy vyrazí z Valašského Meziříčí do Rožnova (příj. 13:47 hod
 .). Z Rožnova se vlak vrací zpět v 16:07 hod. a do Valašského Meziř
 íčí dorazí v 16:34 hod. Všechny vlaky zastaví také v Zašové a Zub
 ří.\n\nHistorická souprava bude tvořena vozy bývalé třetí třídy 
 s dřevěnými sedadly. V čele pojede parní lokomotiva Velký bejček (4
 23.041) z roku 1924 ze sbírky železničního muzea Českých drah. Souč
 ástí soupravy bude i historický bufetový vůz s nabídkou občerstven
 í. Parní lokomotivy řady 423.0 „Velký bejček“ s maximální rychl
 ostí 50 km/h byly určeny pro osobní i nákladní vlaky a lehký posun n
 a vedlejších tratích. Vyráběly se v mnoha sériích v celkovém počt
 u 231 kusů mezi lety 1921 – 1946. Za své jméno vděčí houževnatost
 i a síle\, kterou dokázaly vyvinout.\n\n\n\n\n\n\nDo Rožnova pod Radho
 štěm vyrazí historický vlak s parní lokomotivou Velký bejček.\n\n\n
 Vlaky jsou s povinnou rezervací místa k sezení\, přičemž při zakoup
 ení jízdenky je místenka už její součástí. Jízdenky s rezervací 
 místa lze zakoupit v předprodeji v jakékoliv pokladně Českých drah n
 ebo online na e-shopu ČD.\n\nČeské dráhy ve spolupráci s městem Ro
 žnov pod Radhoštěm pro letošní rok připravily sérii nostalgických 
 jízd parních vlaků mezi Valašským Meziříčím a Rožnovem pod Radho
 štěm\, kdy každá z jízd bude spojena se zajímavým kulturním progra
 mem. Už nyní se proto můžete těšit na další nostalgické jízdy b
 ěhem letních měsíců nebo před Vánocemi.\n\n\n\n
ATTACH;FMTTYPE=image/jpeg:https://i0.wp.com/www.transportminutes.eu/wp-con
 tent/uploads/2025/03/Velky-Bejcek_c_Josef-Vendolsky.webp?fit=960%2C960&ssl
 =1
CATEGORIES:Dopravní nostalgie
LOCATION:http://Web%20události
END:VEVENT
BEGIN:VTIMEZONE
TZID:Europe/Prague
X-LIC-LOCATION:Europe/Prague
BEGIN:STANDARD
DTSTART:20241027T020000
TZOFFSETFROM:+0200
TZOFFSETTO:+0100
TZNAME:CET
END:STANDARD
END:VTIMEZONE
END:VCALENDAR