BEGIN:VCALENDAR
VERSION:2.0
PRODID:-//wp-events-plugin.com//7.2.3.1//EN
BEGIN:VEVENT
UID:194@transportminutes.eu
DTSTART;TZID=Europe/Vienna:20230909T100000
DTEND;TZID=Europe/Vienna:20230910T190000
DTSTAMP:20230906T085342Z
URL:https://www.transportminutes.eu/events/rendez-2023-175-rokov-zeleznic-
 na-slovensku/
SUMMARY:Rendez 2023 - 175 rokov železníc na Slovensku
DESCRIPTION:Přijďte se kochat historickou železnicí do Bratislavy a jej
 ího okolí. Vypraveny budou zvláštní vlaky nejenom v rámci Bratislavy
 \, ale i Bratislavského kraje. Více najdete na webu akce\, kde jsou dopl
 něné informace.\n\nPořádá Železničné múzeum Slovenskej republiky\
 nDopravná 2\, 83106 Bratislava SK\ntelefon: +421 2 2029 7296
CATEGORIES:Dopravní nostalgie
LOCATION:Železničné múzeum Slovenskej republiky\, Dopravná 2\, Bratisl
 ava\, 83106\, Slovensko
GEO:48.198923;17.166281
X-APPLE-STRUCTURED-LOCATION;VALUE=URI;X-ADDRESS=Dopravná 2\, Bratislava\, 
 83106\, Slovensko;X-APPLE-RADIUS=100;X-TITLE=Železničné múzeum Slovens
 kej republiky:geo:48.198923,17.166281
END:VEVENT
BEGIN:VTIMEZONE
TZID:Europe/Vienna
X-LIC-LOCATION:Europe/Vienna
BEGIN:DAYLIGHT
DTSTART:20230326T030000
TZOFFSETFROM:+0100
TZOFFSETTO:+0200
TZNAME:CEST
END:DAYLIGHT
END:VTIMEZONE
END:VCALENDAR