BEGIN:VCALENDAR
VERSION:2.0
PRODID:-//wp-events-plugin.com//7.2.3.1//EN
BEGIN:VEVENT
UID:378@transportminutes.eu
DTSTART;TZID=Europe/Vienna:20260130T090000
DTEND;TZID=Europe/Vienna:20260201T180000
DTSTAMP:20251227T042329Z
URL:https://www.transportminutes.eu/events/reisemesse-dresden-3/
SUMMARY:Reisemesse Dresden
DESCRIPTION:Turistický veletrh
CATEGORIES:Veletrh
LOCATION:Messe Dresden\, Messering 6\, Dresden\, Dresden\, 01067\, Nemecko
GEO:51.068699;13.715796
X-APPLE-STRUCTURED-LOCATION;VALUE=URI;X-ADDRESS=Messering 6\, Dresden\, Dre
 sden\, 01067\, Nemecko;X-APPLE-RADIUS=100;X-TITLE=Messe Dresden:geo:51.068
 699,13.715796
END:VEVENT
BEGIN:VTIMEZONE
TZID:Europe/Vienna
X-LIC-LOCATION:Europe/Vienna
BEGIN:STANDARD
DTSTART:20251026T020000
TZOFFSETFROM:+0200
TZOFFSETTO:+0100
TZNAME:CET
END:STANDARD
END:VTIMEZONE
END:VCALENDAR