BEGIN:VCALENDAR
VERSION:2.0
PRODID:-//wp-events-plugin.com//7.2.3.1//EN
BEGIN:VEVENT
UID:229@transportminutes.eu
DTSTART;TZID=Europe/Vienna:20240228T100000
DTEND;TZID=Europe/Vienna:20240303T170000
DTSTAMP:20231104T120448Z
URL:https://www.transportminutes.eu/events/reise-camping/
SUMMARY:REISE & CAMPING
DESCRIPTION:Mezinárodní veletrh - cestování\, karavany\, kempování
CATEGORIES:Veletrh
LOCATION:Messe Essen\, Messepl. 1\, Essen\, 45131\, Nemecko
GEO:51.430151;6.997964
X-APPLE-STRUCTURED-LOCATION;VALUE=URI;X-ADDRESS=Messepl. 1\, Essen\, 45131\
 , Nemecko;X-APPLE-RADIUS=100;X-TITLE=Messe Essen:geo:51.430151,6.997964
END:VEVENT
BEGIN:VTIMEZONE
TZID:Europe/Vienna
X-LIC-LOCATION:Europe/Vienna
BEGIN:STANDARD
DTSTART:20231029T020000
TZOFFSETFROM:+0200
TZOFFSETTO:+0100
TZNAME:CET
END:STANDARD
END:VTIMEZONE
END:VCALENDAR