BEGIN:VCALENDAR
VERSION:2.0
PRODID:-//wp-events-plugin.com//7.2.3.1//EN
BEGIN:VEVENT
UID:197@transportminutes.eu
DTSTART;TZID=Europe/Vienna:20230917T090000
DTEND;TZID=Europe/Vienna:20230917T160000
DTSTAMP:20230910T111217Z
URL:https://www.transportminutes.eu/events/regionalni-den-zeleznice-v-trut
 nove-2023/
SUMMARY:Regionální den železnice v Trutnově 2023
DESCRIPTION:Pojeďte s námi v neděli 17. září do Trutnova\, kde se kon
 á Regionální den železnice s pestrým programem. Z Hradce Králové bu
 de na oslavy do Trutnova vypraven parní vlak s lokomotivou Velký bejček
 . Během dne se s ním můžete svézt také z Trutnova do Vrchlabí nebo 
 Červeného Kostelce a v Trutnově je pro vás připraven bohatý doprovod
 ný program.
CATEGORIES:Dopravní nostalgie
LOCATION:https://www.cd.cz/vlakem-na-vylet/vylet/trutnov/jak-se-bude-letos-
 slavit-svatek-zeleznice-v-trutnove/17608
END:VEVENT
BEGIN:VTIMEZONE
TZID:Europe/Vienna
X-LIC-LOCATION:Europe/Vienna
BEGIN:DAYLIGHT
DTSTART:20230326T030000
TZOFFSETFROM:+0100
TZOFFSETTO:+0200
TZNAME:CEST
END:DAYLIGHT
END:VTIMEZONE
END:VCALENDAR