BEGIN:VCALENDAR
VERSION:2.0
PRODID:-//wp-events-plugin.com//7.2.3.1//EN
BEGIN:VEVENT
UID:195@transportminutes.eu
DTSTART;TZID=Europe/Vienna:20230909T093000
DTEND;TZID=Europe/Vienna:20230909T170000
DTSTAMP:20230906T112025Z
URL:https://www.transportminutes.eu/events/regionalni-den-zeleznice-v-praz
 e/
SUMMARY:Regionální den železnice v Praze
DESCRIPTION:Oslavte s námi svátek železnice v Praze\, který se uskuteč
 ní v areálu stanice a depa ve Vršovicích\, a to od 9.30 do 17 hodin. B
 udete se moci seznámit jak s historickými\, tak i moderními železničn
 ími vozidly\, podívat se do běžně nepřístupných prostor a svézt s
 e po tratích\, po kterých běžné vlaky s cestujícími nejezdí. Mezi
  vršovickým nádražím a depem bude zajištěna bezplatná kyvadlová d
 oprava\, která pojede zhruba každých 20 minut. Nebude chybět zábava 
 pro děti ani občerstvení.\n\nJízdenky na parní vlak koupíte v předp
 rodeji ve všech pokladnách ČD a na e-shopu ČD\, vlaky s Pantografem js
 ou zdarma.
CATEGORIES:Dopravní nostalgie,Den otevřených dveří
LOCATION:https://www.cd.cz/cs/e-shop/nostalgicke-vlaky/default.htm#regional
 ni-den-zeleznice-v-praze
END:VEVENT
BEGIN:VTIMEZONE
TZID:Europe/Vienna
X-LIC-LOCATION:Europe/Vienna
BEGIN:DAYLIGHT
DTSTART:20230326T030000
TZOFFSETFROM:+0100
TZOFFSETTO:+0200
TZNAME:CEST
END:DAYLIGHT
END:VTIMEZONE
END:VCALENDAR