BEGIN:VCALENDAR
VERSION:2.0
PRODID:-//wp-events-plugin.com//7.2.3.1//EN
BEGIN:VEVENT
UID:196@transportminutes.eu
DTSTART;TZID=Europe/Vienna:20230916T080000
DTEND;TZID=Europe/Vienna:20230916T160000
DTSTAMP:20230910T111007Z
URL:https://www.transportminutes.eu/events/regionalni-den-zeleznice-v-cesk
 e-trebove-2023/
SUMMARY:Regionální den železnice v České Třebové 2023
DESCRIPTION:Přijeďte oslavit Regionální den železnice do České Třeb
 ové! V depu\, kam je zajištěna bezplatná kyvadlová doprava\, se koná
  v době od 8 do 16 hodin bohatý program pro příznivce světa na kolej
 ích. Jeho součástí je křest nové motorové jednotky RegioFox nebo t
 řeba výstava železničních modelů. Těšit se můžete i na jízdy pa
 rním vlakem a prohlídky jinak veřejnosti nepřístupných prostor. Dál
 e se můžete těšit na:\n\n- jízdy parního vlaku z České Třebové d
 o Lanškrouna a zpět\,\n- okružní jízdy po železničním uzlu Česká
  Třebová\, do Ústí nad Orlicí a Svitav\,\n- zpřístupnění prostor 
 hasičů Správy železnic v Semanínské ulici.
CATEGORIES:Dopravní nostalgie
LOCATION:https://www.cd.cz/vlakem-na-vylet/vylet/ceska-trebova/oslavte-s-na
 mi-svatek-zeleznice-v-ceske-trebove/17593
END:VEVENT
BEGIN:VTIMEZONE
TZID:Europe/Vienna
X-LIC-LOCATION:Europe/Vienna
BEGIN:DAYLIGHT
DTSTART:20230326T030000
TZOFFSETFROM:+0100
TZOFFSETTO:+0200
TZNAME:CEST
END:DAYLIGHT
END:VTIMEZONE
END:VCALENDAR