BEGIN:VCALENDAR
VERSION:2.0
PRODID:-//wp-events-plugin.com//7.2.3.1//EN
BEGIN:VEVENT
UID:516@transportminutes.eu
DTSTART;TZID=Europe/Prague:20260609T090000
DTEND;TZID=Europe/Prague:20260611T180000
DTSTAMP:20260409T065420Z
URL:https://www.transportminutes.eu/events/rail-business-days-2026/
SUMMARY:RAIL BUSINESS DAYS 2026
DESCRIPTION:Mezinárodní železniční veletrh a konference\nOtevřen vele
 trh\n9. června / 9.00—18.00 hodin\n10. června / 9.00—18.00 hodin\n11
 . června / 9.00—15.00 hodin
ATTACH;FMTTYPE=image/jpeg:https://i0.wp.com/www.transportminutes.eu/wp-con
 tent/uploads/2022/02/railbussinesdays.jpg?fit=541%2C228&ssl=1
CATEGORIES:Veletrh,Kongres
LOCATION:Trojhalí Karolína\, Ostrava\, K Trojhalí 3361/5\, Ostrava – M
 oravská Ostrava\, 70200\, Moravskoslezský kraj\, Česká republika
X-APPLE-STRUCTURED-LOCATION;VALUE=URI;X-ADDRESS=K Trojhalí 3361/5\, Ostrav
 a – Moravská Ostrava\, 70200\, Moravskoslezský kraj\, Česká republik
 a;X-APPLE-RADIUS=100;X-TITLE=Trojhalí Karolína\, Ostrava:geo:0,0
END:VEVENT
BEGIN:VTIMEZONE
TZID:Europe/Prague
X-LIC-LOCATION:Europe/Prague
BEGIN:DAYLIGHT
DTSTART:20260329T030000
TZOFFSETFROM:+0100
TZOFFSETTO:+0200
TZNAME:CEST
END:DAYLIGHT
END:VTIMEZONE
END:VCALENDAR