BEGIN:VCALENDAR
VERSION:2.0
PRODID:-//wp-events-plugin.com//7.2.3.1//EN
BEGIN:VEVENT
UID:512@transportminutes.eu
DTSTART;TZID=Europe/Prague:20260530T084500
DTEND;TZID=Europe/Prague:20260530T170000
DTSTAMP:20260309T180257Z
URL:https://www.transportminutes.eu/events/prazsky-dopravni-den-deti/
SUMMARY:Pražský dopravní den dětí
DESCRIPTION:Velkolepá akce pořádaná u příležitosti oslav Mezinárodn
 ího dne dětí tentokrát zavítá do prostoru nádraží v Praha-Braní
 ku. Návštěvníky čeká pestrý program pro celou rodinu zaměřený na
  svět dopravy\, jehož součástí budou také mimořádné jízdy histor
 ických vlaků a autobusů\, které potěší malé i velké fanoušky dop
 ravní techniky.
CATEGORIES:Dopravní nostalgie,Doprava
LOCATION:https://pid.cz/plan-akci-pid-v-roce-2026/
END:VEVENT
BEGIN:VTIMEZONE
TZID:Europe/Prague
X-LIC-LOCATION:Europe/Prague
BEGIN:DAYLIGHT
DTSTART:20260329T030000
TZOFFSETFROM:+0100
TZOFFSETTO:+0200
TZNAME:CEST
END:DAYLIGHT
END:VTIMEZONE
END:VCALENDAR