BEGIN:VCALENDAR
VERSION:2.0
PRODID:-//wp-events-plugin.com//7.2.3.1//EN
BEGIN:VEVENT
UID:360@transportminutes.eu
DTSTART;TZID=Europe/Vienna:20251009T090000
DTEND;TZID=Europe/Vienna:20251012T170000
DTSTAMP:20250429T203316Z
URL:https://www.transportminutes.eu/events/poland-boat-show/
SUMMARY:POLAND BOAT SHOW
DESCRIPTION:Veletrh jachet a vodních sportů
CATEGORIES:Veletrh
LOCATION:Ptak Warsaw Expo\, Aleja Katowicka 62\, Nadarzyn\, 05-830\, Polsko
GEO:52.107183;20.833741
X-APPLE-STRUCTURED-LOCATION;VALUE=URI;X-ADDRESS=Aleja Katowicka 62\, Nadarz
 yn\, 05-830\, Polsko;X-APPLE-RADIUS=100;X-TITLE=Ptak Warsaw Expo:geo:52.10
 7183,20.833741
END:VEVENT
BEGIN:VTIMEZONE
TZID:Europe/Vienna
X-LIC-LOCATION:Europe/Vienna
BEGIN:DAYLIGHT
DTSTART:20250330T030000
TZOFFSETFROM:+0100
TZOFFSETTO:+0200
TZNAME:CEST
END:DAYLIGHT
END:VTIMEZONE
END:VCALENDAR