BEGIN:VCALENDAR
VERSION:2.0
PRODID:-//wp-events-plugin.com//7.2.3.1//EN
BEGIN:VEVENT
UID:505@transportminutes.eu
DTSTART;TZID=Europe/Paris:20260128T100000
DTEND;TZID=Europe/Paris:20260201T190000
DTSTAMP:20260126T153903Z
URL:https://www.transportminutes.eu/events/peugeot-na-retromobile-ve-zname
 ni-ikonickeho-gti/
SUMMARY:Peugeot na Rétromobile: ve znamení ikonického „GTi“
DESCRIPTION:\n 	Značka Peugeot zahajuje svůj „rok ve znamení GTi“ v
 ýjimečnou expozicí na veletrhu Rétromobile. Tato akce se koná v Pař
 íži od 28. ledna do 1. února 2026. \n 	Na Rétromobile si návštěvní
 ci budou moci prohlédnout různé verze modelu Peugeot 205 – vozu\, kte
 rý se stal legendou. Na stánku Peugeot se představí společně s jeho 
 nástupcem: novým Peugeotem E-208 GTi v ikonické bílé barvě úplně p
 rvního modelu 205 GTi. \n 	Svou expozicí oslavuje Peugeot vášeň pro G
 Ti poháněnou potěšením z jízdy\, výkonem a osobitým francouzským 
 designem. \n\n&nbsp\;\n\n[caption id="attachment_57815" align="alignleft" 
 width="225"] zdroj Peugeot[/caption]\n\nDobrá zpráva pro milovníky ří
 zení: Rok 2026 znamená velký návrat ikony s označením GTi. Peugeot E
 -208 GTi bude uveden na evropský trh ve druhé polovině letošního roku
 . Ještě předtím ho ale čekají různé akce. Jednou z nejvýznamněj
 ších je slavný veletrh Rétromobile\, který se koná od 28. ledna do 1
 . února v areálu Paris Porte de Versailles. Na stánku o rozloze 600 m²
  představí Peugeot vozy\, které daly vzniknout legendě GTi. Zejména s
 e jedná o sestavu modelů Peugeot GTi Série 2.\n\nVíce než čtyřicet 
 let po odhalení vůbec prvního Peugeot 205 GTi tyto dnes už historické
  modely vítají svého nástupce: nový Peugeot E-208 GTi.\n\n„GTi“ z
 novu nabývá na významu\, a to více než kdy dřív. E-208 GTi přiná
 ší ještě více radosti z jízdy a nejvyšší výkon ve svém segment
 u: 280 koní! Jedinečné zážitky z řízení doplňuje decentní a ele
 gantní design ztělesňující francouzské charisma.\n\nNový Peugeot E-
 208 GTi se na Rétromobile odhaluje v bílé barvě\, čímž odkazuje na 
 charakteristický odstín úplně prvního Peugeot 205 GTi.\n\n[caption id
 ="attachment_57816" align="alignleft" width="300"] zdroj Peugeot[/caption]
 \n\nNávštěvníci výstavy jsou srdečně zváni\, aby dorazili na stán
 ek Peugeotu a sdíleli svou automobilovou vášeň se zástupci klubů Peu
 geot GTi\, kteří budou na místě přítomni. Budou moci také obdivovat
  jedinečnou expozici věnovanou světu GTi\, která zahrnuje motory\, vol
 anty\, kola z lehkých slitin… a mnoho dalšího.\n\nPeugeot srdečně d
 ěkuje klubům Peugeot GTi a organizaci L’Aventure Peugeot za spoluprác
 i a neocenitelnou podporu při zajištění historických vozů vystavený
 ch na stánku.\n\nStánek Peugeot se nachází v hale 7.2 v areálu Paris 
 Expo Porte de Versailles.\n\nVeletrh Rétromobile je otevřen veřejnosti 
 od 28. ledna do 1. února\, vždy 10:00–19:00. Zahajovací večer pro ti
 sk se koná 27. ledna\, 18:00–22:00.\n\nHistorické modely Peugeot Séri
 e 2 GTi vystavené na Rétromobile 2026 \n\nPeugeot 205 GTi 1.6 105 k – 
 originál \n\nModel Peugeot GTi\, který byl v roce 1984 průkopníkem: ma
 lý temperamentní vůz\, který byl zároveň elegantní i sportovní a d
 okázal konkurovat mnohem větším\, výkonnějším a dražším soupeř
 ům. Nový Peugeot E-208 GTi představený na Rétromobile přebírá jeho
  ikonickou bílou barvu i jeho DNA.\n\nPeugeot 205 GTi 1.6 115 k – více
  energie \n\n[caption id="attachment_57817" align="alignleft" width="300"]
  Peugeot E-208 GTi v exteriéru\, zdroj Peugeot[/caption]\n\nV roce 1986 z
 ískal vůz svižný motor o objemu 1\,6 l. Tento motor byl upravený divi
 zí Peugeot Talbot Sport a zvýšil výkon o 10 koní. I díky tomu si „
 enfant terrible“ ze Sochaux udržel postavení etalonu mezi sportovními
  hatchbacky\, což byl v té době segment\, jehož rozvoj výrazně podp
 ořil právě vůz 205 GTi. Ale Peugeot s 205 GTi ještě neskončil…\n\
 nPeugeot 205 GTi 1.9 130 k – ultimátní verze \n\nV roce 1986 vstoupil 
 Peugeot 205 GTi do nové dimenze příchodem vrcholné verze s motorem 1\
 ,9 l. Díky většímu objemu vůz nabídl 130 koní a zároveň upravený
  podvozek. Rychlejší a výkonnější Peugeot 205 GTi si rychle získal 
 status legendy\, který si udržel po celý jeho produktový život.\n\nPe
 ugeot 205 CTi – GTi s větrem ve vlasech \n\nDuch GTi se přenesl i do v
 erze kabriolet: vznikl Peugeot 205 CTi. Byl uveden v roce 1986 a přebral 
 motor 1.6 o výkonu 115 k (později nahrazený 1.9 l se 105 k) a také pr
 émiový styl GTi. Rychle si získal oblibu mezi fanoušky malých sportov
 ních kabrioletů.\n\nPeugeot 205 GTi Dimma – nádech 205 Turbo 16 \n\n[
 caption id="attachment_57818" align="alignleft" width="300"] Peugeot E-208
  GTi a jeho interier\, zdroj Peugeot[/caption]\n\nS výrazně rozšířen
 ými blatníky připomíná úprava 205 GTi od belgického karosáře Dimm
 a Design legendární 205 Turbo 16. Karosářský kit z polyesteru s širo
 kými lemy a obvodovými nárazníky byl homologován značkou Peugeot v r
 oce 1989 a byl dostupný pro verze 1.6 i 1.9 GTi. Firma Dimma později nab
 ízela podobné úpravy i pro modely 306\, 106 a 206.\n\nPeugeot 205 GTi G
 riffe – inspirován Jeanem Todtem \n\nNa pařížském autosalonu v roce
  1990 představil Peugeot model 205 GTi Griffe. Byl inspirován vozem 205 
 GTi\, který vlastnil Jean Todt (tehdejší ředitel divize Peugeot Talbot
  Sport). Tato limitovaná edice v počtu 3 000 kusů s charakteristickým 
 elegantním lakem Fluorite Green\, antracitovými koly a šedým koženým
  interiérem „Ouragan“ se zeleným prošíváním získala velkou pozo
 rnost. Stejně sportovní a ještě elegantnější.\n\nPeugeot 205 Turbo 
 16 – mistr světa! \n\nV polovině 80. let se Jean Todt rozhodl přivés
 t značku Peugeot do mistrovství světa v rallye. Aby byl vůz přijat do
  kategorie B\, muselo být nejprve vyrobeno 200 silničních homologovaný
 ch kusů. Vystavený vůz 205 Turbo 16 na Rétromobile je jedním z nich.
  Disponuje pohonem všech kol a přeplňovaným motorem Turbo 16V 1.8 l um
 ístěným uprostřed vzadu. Motor měl výkon 200 k\, s kitem Peugeot Ta
 lbot Sport pak až 300 k. Kromě těchto působivých parametrů těžil 2
 05 T16 také z vyváženosti a lehkosti modelu 205 GTi\, což mu dávalo v
 ýhodu oproti těžším soupeřům. Výsledkem byly dva tituly mistra sv
 ěta v rallye v letech 1985 a 1986.
ATTACH;FMTTYPE=image/jpeg:https://i0.wp.com/www.transportminutes.eu/wp-con
 tent/uploads/2026/01/Peugeot-205.webp?fit=1200%2C964&ssl=1
CATEGORIES:Dopravní nostalgie,Výstavy
LOCATION:Paris Expo Porte de Versailles\, 1 Pl. de la Prte de Versailles\, 
 Paris\, 75015\, Francie
X-APPLE-STRUCTURED-LOCATION;VALUE=URI;X-ADDRESS=1 Pl. de la Prte de Versail
 les\, Paris\, 75015\, Francie;X-APPLE-RADIUS=100;X-TITLE=Paris Expo Porte 
 de Versailles:geo:0,0
END:VEVENT
BEGIN:VTIMEZONE
TZID:Europe/Paris
X-LIC-LOCATION:Europe/Paris
BEGIN:STANDARD
DTSTART:20251026T020000
TZOFFSETFROM:+0200
TZOFFSETTO:+0100
TZNAME:CET
END:STANDARD
END:VTIMEZONE
END:VCALENDAR