BEGIN:VCALENDAR
VERSION:2.0
PRODID:-//wp-events-plugin.com//7.2.3.1//EN
BEGIN:VEVENT
UID:517@transportminutes.eu
DTSTART;TZID=Europe/Vienna:20260516T091500
DTEND;TZID=Europe/Vienna:20260516T170000
DTSTAMP:20260420T181659Z
URL:https://www.transportminutes.eu/events/parnim-vlakem-do-lednice/
SUMMARY:Parním vlakem do Lednice
DESCRIPTION:Zajeďte si  v sobotu 16. května parním vlakem taženým lok
 omotivou Šlechtična (475.101) na výlet do Lednice. Kromě zážitku z n
 ostalgické jízdy se můžete těšit na pestrý program v rámci akce O
 živlé nádraží a také na Májovou slavnost\, která se tento víkendo
 vý den koná na lednické kolonádě.\nLednicko-Valtický areál\nJen má
 lokterá krajina na světě se může pochlubit tak harmonickým spojením
  přírody a drobných romantických staveb jako Lednicko-valtický areál
 . A právě proto se už po dvě století této oblasti říká Zahrada Ev
 ropy.\n\nDo Lednicko-valtického areálu se v sobotu 16. května můžete 
 svézt parním vlakem. Soupravu historických vozů typu Rybák poveze par
 ní lokomotiva Šlechtična (475.101). Součástí vlaku bude také histor
 ický bufetový vůz s nabídkou občerstvení.\nParním vlakem do Lednice
 \nParní vlaky mají plánovaný odjezd z břeclavského nádraží v 9:23
 \, 12:00 a 14:36 hod. a z Lednice odjíždějí zpět v 10:45\, 13:30 a 16
 :15 hod. Jízdenky koupíte v pokladnách ČD a také online v e-shopu ČD
 .\nJízdní řád\n\n\n\nParní vlak\n\n\n\n\n\ntam\n\n\nstanice\npříjez
 d\nodjezd\npříjezd\nodjezd\npříjezd\nodjezd\n\n\nBřeclav\n\n9:23\n\n1
 2:00\n\n14:36\n\n\nBoří les\n\n9:30\n\n12:07\n\n14:44\n\n\nPoštorná\n\
 n9:36\n\n12:12\n\n14:49\n\n\nCharvátská Nová Ves\n\n9:40\n\n12:15\n\n14
 :53\n\n\nLednice rybníky\n\n9:49\n\n12:25\n\n15:02\n\n\nLednice\n9:56\n\n
 12:32\n\n15:10\n\n\n\n\n\n\nzpět\n\n\nstanice\npříjezd\nodjezd\npříje
 zd\nodjezd\npříjezd\nodjezd\n\n\nLednice\n\n10:45\n\n13:30\n\n16:15\n\n\
 nLednice rybníky\n\n10:52\n\n13:37\n\n16:22\n\n\nCharvátská Nová Ves\n
 \n11:02\n\n13:47\n\n16:32\n\n\nPoštorná\n\n11:06\n\n13:51\n\n16:36\n\n\n
 Boří les\n\n11:13\n\n13:58\n\n16:48\n\n\nBřeclav\n11:17\n\n14:02\n\n16:
 52\n\n\n\n\nJízdné\nJednosměrná jízda parním vlakem stojí 160 Kč\,
  zpáteční jízdenku pořídíte za 300 Kč. Přeprava psa v jednom smě
 ru stojí 30 Kč.\n\nPro cestující ve věku 6–18 let\, žáky a studen
 ty ve věku 18–26 let\, cestující 65+ a osoby pobírající invalidní
  důchod třetího stupně platí sleva 50 %. Držitelé průkazů ZTP a Z
 TP/P mohou uplatnit slevu 75 %. Přeprava jízdních kol je vyloučena.\nP
 rogram na nádraží a Májová slavnost\nU příležitosti 125 let od zř
 ízení nádraží v Lednici se v sobotu 16. května na prostranství pře
 d nádražní budovou koná akce Oživlé nádraží\, zaměřená na hist
 orická období 1901 – 1931 – 1961.\n\nÚstředním bodem programu jso
 u příjezdy parních vlaků. Nostalgickou soupravu vždy pozdraví dobov
 ý přednosta stanice s personálem. Na lednickém nádraží najdete hist
 orický telegrafní a telefonní úřad a potkáte skupinu československ
 ých legionářů z první světové války.\n\nDětem zpříjemní čeká
 ní na vlak loutkové divadlo. Na lednickém nádraží ožijí klasické 
 příběhy bratří Grimmů ve známé úpravě Boženy Němcové – Pern
 íková chaloupka a O Červené karkulce. Na akci jsou vítáni návštěv
 níci v dobových oděvech.\n\nV sobotu 16. května se v Lednici uskutečn
 í také Májová slavnost\, která tradičně zahajuje lázeňskou sezonu
 . Kromě jarmarku\, slavnostního průvodu a žehnání pramenům se můž
 ete těšit i na bohatý kulturní program a děti na malování na oblič
 ej nebo cukrovou vatu. Vstup je zdarma.\n\nNestihnete navštívit Lednici 
 v sobotu 16. května? Od 1. května do 28. září se o víkendech a svát
 cích můžete svézt mezi Břeclaví a Lednicí historickým motoráčkem
  z 50. let minulého století\, tzv. Hurvínkem.\n\nZměna jízdního řá
 du\, nasazení historických vozidel a programu vyhrazena.\n\nHlavní part
 neři:\n\nJihomoravský kraj • Obec Lednice • Dobrovolný svazek obcí
  Lednicko-valtického areálu • Město Břeclav\n\nPartneři: Lednice d
 ávná – Jak se žilo za Tatíčka Masaryka • Muzeum hraček Lednice 
 • Restaurace Myslivna • Autoškola Autodoprava Adolf Svoboda Lednice n
 a Moravě • Muzeum železnice Břeclav • Lázně Lednice • Pivovar L
 ednice • TuristickáMapa.cz\n\nVíce informací naleznete ZDE \n\n&nbs
 p\;\n\n&nbsp\;
ATTACH;FMTTYPE=image/jpeg:https://i0.wp.com/www.transportminutes.eu/wp-con
 tent/uploads/2025/09/CD_Nostalgie.jpg?fit=2048%2C1334&ssl=1
CATEGORIES:Dopravní nostalgie
LOCATION:https://www.cd.cz/vlakem-na-vylet/vylet/breclavlednice/parnim-vlak
 em-do-lednice/19366
END:VEVENT
BEGIN:VTIMEZONE
TZID:Europe/Vienna
X-LIC-LOCATION:Europe/Vienna
BEGIN:DAYLIGHT
DTSTART:20260329T030000
TZOFFSETFROM:+0100
TZOFFSETTO:+0200
TZNAME:CEST
END:DAYLIGHT
END:VTIMEZONE
END:VCALENDAR