BEGIN:VCALENDAR
VERSION:2.0
PRODID:-//wp-events-plugin.com//7.2.3.1//EN
BEGIN:VEVENT
UID:339@transportminutes.eu
DTSTART;TZID=Europe/Prague:20251011T090000
DTEND;TZID=Europe/Prague:20251011T170000
DTSTAMP:20250223T174456Z
URL:https://www.transportminutes.eu/events/objevte-krasy-lomu-morina-v-roc
 e-2025-9/
SUMMARY:Objevte krásy lomů Mořina v roce 2025!
DESCRIPTION:Rezervace jsou již otevřené\, tak neváhejte a zajistěte si
  své místo na jedinečný výlet motoráčkem do lomů Mořina. Letos vy
 rážíme hned několikrát\, s odjezdy z kladenského nádraží\, pražs
 kého železničního nádraží Dejvice a plzeňského hlavního nádraž
 í.\n\nLom Velká Amerika\, známý mezi českými turisty jako “Velká 
 louže”\, je jedním z nejnavštěvovanějších míst. Tento vápencov
 ý útvar měří 800 m na délku\, 200 m na šířku a dosahuje hloubky a
 ž 100 m. Mnozí návštěvníci ho obdivují z ne zcela bezpečných strm
 ých okrajů.\n\nMy vám nabízíme jedinečný pohled z úplně jiné per
 spektivy. Ukážeme vám Velkou Ameriku až ze samotného dna. Zaujalo vá
 s to? Rezervujte si své místo ještě dnes!\n\nNa programu máme prohlí
 dku lomů Mořina\, návštěvu podzemí s proslulým Hagenem a projížď
 ku po části legendární kladensko-nučické dráhy.\n\nPodrobnosti akce
 :\n\nOdjezdy z kladenského nádraží\, pražského nádraží Dejvice a 
 plzeňského hlavního nádraží\, podle termínu akce.\nProjedeme tratí
  využívanou převážně pro přepravu vápence.\nZe srdce lomů Mořina
  se vydáme stezkou na dno lomu Velká Amerika přes těžkotonážní\, v
 eřejnosti běžně nepřístupná vrata.\nPo prohlídce Velké Ameriky n
 ás čeká prohlídka podzemních štol a návštěva u proslulého Hagena
 .\nBěhem prohlídek bude přestávka na občerstvení.\nCelková časová
  náročnost v lomu Mořina cca 3 – 4 hodiny.\nCo s sebou:\n\nPohodlná 
 turistická obuv\nSvačiny\nSvítilna (čelovka)\nV motoráčku bude otev
 řen mini bar s možností zakoupit nápoje (káva\, čaj\, nealko – vod
 a\, džus)\nAkce není vhodná pro rodiny s kočárky a osoby s omezenou p
 ohyblivostí. V celém areálu je zákaz požívání alkoholických nápo
 jů.
ATTACH;FMTTYPE=image/jpeg:https://i0.wp.com/www.transportminutes.eu/wp-con
 tent/uploads/2025/02/lom-Morana-2025.webp?fit=1080%2C1350&ssl=1
CATEGORIES:Doprava,Dopravní nostalgie
LOCATION:https://www.event-zazitkovyvlak.cz/2025/01/31/motorackem-do-lomu-m
 orina-2/
END:VEVENT
BEGIN:VTIMEZONE
TZID:Europe/Prague
X-LIC-LOCATION:Europe/Prague
BEGIN:DAYLIGHT
DTSTART:20250330T030000
TZOFFSETFROM:+0100
TZOFFSETTO:+0200
TZNAME:CEST
END:DAYLIGHT
END:VTIMEZONE
END:VCALENDAR