BEGIN:VCALENDAR
VERSION:2.0
PRODID:-//wp-events-plugin.com//7.2.3.1//EN
BEGIN:VEVENT
UID:403@transportminutes.eu
DTSTART;TZID=Europe/Prague:20251001T090000
DTEND;TZID=Europe/Prague:20251231T170000
DTSTAMP:20251227T155009Z
URL:https://www.transportminutes.eu/events/nadrazi-virtualne-3/
SUMMARY:Nádraží virtuálně
DESCRIPTION:Zažijte nové hlavní nádraží v Brně ještě před jeho vz
 nikem!
ATTACH;FMTTYPE=image/jpeg:https://i0.wp.com/www.transportminutes.eu/wp-con
 tent/uploads/2025/07/Railway-BRN-1.webp?fit=1920%2C1080&ssl=1
CATEGORIES:Doprava,Výstavy
LOCATION:Veletrhy Brno\, Veletržní\, Brno\, Česká republika\, 60200\, 
 Česká republika
GEO:49.18864;16.5889
X-APPLE-STRUCTURED-LOCATION;VALUE=URI;X-ADDRESS=Veletržní\, Brno\, Česk
 á republika\, 60200\, Česká republika;X-APPLE-RADIUS=100;X-TITLE=Veletr
 hy Brno:geo:49.18864,16.5889
END:VEVENT
BEGIN:VTIMEZONE
TZID:Europe/Prague
X-LIC-LOCATION:Europe/Prague
BEGIN:DAYLIGHT
DTSTART:20250330T030000
TZOFFSETFROM:+0100
TZOFFSETTO:+0200
TZNAME:CEST
END:DAYLIGHT
BEGIN:STANDARD
DTSTART:20251026T020000
TZOFFSETFROM:+0200
TZOFFSETTO:+0100
TZNAME:CET
END:STANDARD
END:VTIMEZONE
END:VCALENDAR