BEGIN:VCALENDAR
VERSION:2.0
PRODID:-//wp-events-plugin.com//7.2.3.1//EN
BEGIN:VEVENT
UID:513@transportminutes.eu
DTSTART;TZID=Europe/Vienna:20260114T090000
DTEND;TZID=Europe/Vienna:20260930T170000
DTSTAMP:20260323T191454Z
URL:https://www.transportminutes.eu/events/nadrazi-virtualne-2/
SUMMARY:Nádraží virtuálně
DESCRIPTION:Zažijte nové hlavní nádraží v Brně ještě před jeho vz
 nikem!
CATEGORIES:Architektura,Doprava
LOCATION:Veletrhy Brno\, Veletržní\, Brno\, Česká republika\, 60200\, 
 Česká republika
GEO:49.18864;16.5889
X-APPLE-STRUCTURED-LOCATION;VALUE=URI;X-ADDRESS=Veletržní\, Brno\, Česk
 á republika\, 60200\, Česká republika;X-APPLE-RADIUS=100;X-TITLE=Veletr
 hy Brno:geo:49.18864,16.5889
END:VEVENT
BEGIN:VTIMEZONE
TZID:Europe/Vienna
X-LIC-LOCATION:Europe/Vienna
BEGIN:STANDARD
DTSTART:20251026T020000
TZOFFSETFROM:+0200
TZOFFSETTO:+0100
TZNAME:CET
END:STANDARD
BEGIN:DAYLIGHT
DTSTART:20260329T030000
TZOFFSETFROM:+0100
TZOFFSETTO:+0200
TZNAME:CEST
END:DAYLIGHT
END:VTIMEZONE
END:VCALENDAR