BEGIN:VCALENDAR
VERSION:2.0
PRODID:-//wp-events-plugin.com//7.2.3.1//EN
BEGIN:VEVENT
UID:375@transportminutes.eu
DTSTART;TZID=Europe/Rome:20260123T090000
DTEND;TZID=Europe/Rome:20260126T180000
DTSTAMP:20251220T175023Z
URL:https://www.transportminutes.eu/events/motor-bike-expo-2/
SUMMARY:Motor Bike Expo
DESCRIPTION:Mezinárodní motocyklová výstava
CATEGORIES:Veletrh
LOCATION:Veronafiere\, Viale del Lavoro\, 8\, Verona VR\, 37135\, Itálie
X-APPLE-STRUCTURED-LOCATION;VALUE=URI;X-ADDRESS=Viale del Lavoro\, 8\, Vero
 na VR\, 37135\, Itálie;X-APPLE-RADIUS=100;X-TITLE=Veronafiere:geo:0,0
END:VEVENT
BEGIN:VTIMEZONE
TZID:Europe/Rome
X-LIC-LOCATION:Europe/Rome
BEGIN:STANDARD
DTSTART:20251026T020000
TZOFFSETFROM:+0200
TZOFFSETTO:+0100
TZNAME:CET
END:STANDARD
END:VTIMEZONE
END:VCALENDAR