BEGIN:VCALENDAR
VERSION:2.0
PRODID:-//wp-events-plugin.com//7.2.3.1//EN
BEGIN:VEVENT
UID:113@transportminutes.eu
DTSTART:20230302T080000Z
DTEND:20230305T150000Z
DTSTAMP:20221111T150015Z
URL:https://www.transportminutes.eu/events/motocykl-praha-2023/
SUMMARY:Motocykl Praha 2023
DESCRIPTION:23. VÝSTAVA MOTOCYKLŮ\, ČTYŘKOLEK A PŘÍSLUŠENSTVÍ
CATEGORIES:Veletrh
LOCATION:Expo Praha\, Letňany\, Beranových 667\, Praha 9 - Letňany\, Pra
 ha\, 19909\, Česká republika
GEO:50.129852;14.515666
X-APPLE-STRUCTURED-LOCATION;VALUE=URI;X-ADDRESS=Beranových 667\, Praha 9 -
  Letňany\, Praha\, 19909\, Česká republika;X-APPLE-RADIUS=100;X-TITLE=E
 xpo Praha\, Letňany:geo:50.129852,14.515666
END:VEVENT
END:VCALENDAR