BEGIN:VCALENDAR
VERSION:2.0
PRODID:-//wp-events-plugin.com//7.2.3.1//EN
BEGIN:VEVENT
UID:345@transportminutes.eu
DTSTART;TZID=Europe/Vienna:20250613T190000
DTEND;TZID=Europe/Vienna:20250613T220000
DTSTAMP:20250428T114642Z
URL:https://www.transportminutes.eu/events/misto-salin-kapely-a-stovky-lid
 i-tancici-v-rytmu-brass-party-vozovna-pisarky-se-v-cervnu-poprve-promeni-v
 -koncertni-sal/
SUMMARY:Místo šalin kapely a stovky lidí tančící v rytmu Brass Party.
  Vozovna Pisárky se v červnu poprvé promění v koncertní sál
DESCRIPTION:Z tramvajové vozovny Pisárky se večer běžně ozývá zvu
 k nářadí a vysavačů. V pátek 13. června 2025 bude program zcela ji
 ný – tisícovku návštěvníků roztančí v rámci Brno Brass Festu 
 tři multižánrové kapely. Spojením žesťových a bicích nástrojů 
 vzniká v jejich podání energizující Brass Party\, která nenechá ni
 koho stát.\n\n„Naším dlouhodobým cílem je popularizace městské h
 romadné dopravy. Od prvopočátku jsme proto nad novou halou uvažovali 
 jako nad objektem\, který by mohl sloužit nejen pro dopravní účely\, 
 ale i pro konání kulturních akcí. Máme tak možnost potěšit fanouš
 ky dopravy\, ale také představovat naše stavby a činnost široké ve
 řejnosti. Tradiční akce Brno Brass Fest je jedinečnou příležitostí
  vyzkoušet\, jak toto spojení bude fungovat. Jsem si jistý\, že akce p
 řitáhne nejen Brňany\, ale jak při dopravních akcích bývá zvykem\,
  i nadšence z dalších českých a slovenských měst. Všem přeji\, 
 aby si  užili nejen skvělou hudbu\, ale i atmosféru tohoto industriál
 ního prostoru\,“ sdělil Miloš Havránek\, generální ředitel Dopr
 avního podniku města Brna.\n\n„Dnem D“ se stane pátek 13. června 
 2025\, kdy v pisárecké hale denního ošetření a očisty od 19 hodin
  postupně vystoupí kapely Brass Avenue\, Taste of Brass a TooT Ensemble.
  Jejich pojítkem jsou zejména žesťové nástroje. Celý večer se pon
 ese v energickém tanečním rytmu populárních hitů. Bonusem pak bude 
 světelná instalace studia VISUALOVE\, jejichž práci Brňané znají n
 apříklad z Festivalu planet.\n\n„Letošní ročník Brno Brass Festu s
 e nebojí hudbu přivést tam\, kde ještě nebyla. Do vozovny jsme vybral
 i ty nejlepší zábavové žesťové kapely. Brass Avenue roztančili pu
 blikum už dříve na našem pódiu na Brněnské přehradě. Dále se p
 ředstaví Taste of Brass s populárními hity a závěr bude patřit T
 ooT Ensemble\, který vás strhne svou taneční energií” řekla Kris
 týna Ratajová\, ředitelka Brno Brass Festu\, jehož součástí je i
  Brass Party.\n\n„Provozně pro nás příprava akce znamená zkoordin
 ovat provoz haly\, přes kterou se běžně vrací tramvaje do vozovny\, s
  koncertem. V sobotu 14. června pak v areálu vozovny organizujeme Den
  otevřených dveří u příležitosti 125 let elektrické tramvajové
  trakce. Bude velmi náročné v tak krátkém časovém úseku obě ak
 ce zrealizovat\, a ještě zajistit standardní tramvajový provoz. Je to 
 pro nás ale tak obrovská výzva\, že za to vynaložené úsilí jednozn
 ačně stojí\,“ dodal Havránek s tím\, že se úklid a kontrola v
 ozů přesune z večera do brzkých ranních hodin.\n\nPo skončení pát
 ečního koncertu DPMB ze smyčky Pisárky vypraví pro jeho účastníky 
 posilové tramvajové spoje.  Vstupenky na akci je možné zakoupit na
  https://brnobrassfest.cz/brass-party/.\n\nDen otevřených dveří pak d
 opravce zahájí v sobotu 14. června ve 12 hodin a potrvá do 18 hodin. 
 Návštěvníci\, kteří tak neučinili v noci\, si budou moci prohlédn
 out tramvajovou vozovnu pyšnící se titulem Stavba Jihomoravského kraje
  2022\, historické i moderní tramvaje nebo vyzkoušet trenažéry pro d
 ěti.
ATTACH;FMTTYPE=image/jpeg:https://i0.wp.com/www.transportminutes.eu/wp-con
 tent/uploads/2025/04/brassparty_1080x1080.webp?fit=1024%2C1024&ssl=1
CATEGORIES:Den otevřených dveří,Doprava
LOCATION:http://Nákup%20vstupenky%20na%20akci
END:VEVENT
BEGIN:VTIMEZONE
TZID:Europe/Vienna
X-LIC-LOCATION:Europe/Vienna
BEGIN:DAYLIGHT
DTSTART:20250330T030000
TZOFFSETFROM:+0100
TZOFFSETTO:+0200
TZNAME:CEST
END:DAYLIGHT
END:VTIMEZONE
END:VCALENDAR