BEGIN:VCALENDAR
VERSION:2.0
PRODID:-//wp-events-plugin.com//7.2.3.1//EN
BEGIN:VEVENT
UID:295@transportminutes.eu
DTSTART;TZID=Europe/Berlin:20250506T090000
DTEND;TZID=Europe/Berlin:20250507T160000
DTSTAMP:20240922T080427Z
URL:https://www.transportminutes.eu/events/medlogistica/
SUMMARY:MED+logistica
DESCRIPTION:Kongres a výstava pro logistiku a řízení procesů v nemocni
 cích
CATEGORIES:Kongres
LOCATION:Messe Leipzig\, Messe-Allee 1\, Leipzig\, 04356\, Nemecko
GEO:51.397291;12.39616
X-APPLE-STRUCTURED-LOCATION;VALUE=URI;X-ADDRESS=Messe-Allee 1\, Leipzig\, 0
 4356\, Nemecko;X-APPLE-RADIUS=100;X-TITLE=Messe Leipzig:geo:51.397291,12.3
 9616
END:VEVENT
BEGIN:VTIMEZONE
TZID:Europe/Berlin
X-LIC-LOCATION:Europe/Berlin
BEGIN:DAYLIGHT
DTSTART:20250330T030000
TZOFFSETFROM:+0100
TZOFFSETTO:+0200
TZNAME:CEST
END:DAYLIGHT
END:VTIMEZONE
END:VCALENDAR