BEGIN:VCALENDAR
VERSION:2.0
PRODID:-//wp-events-plugin.com//7.2.3.1//EN
BEGIN:VEVENT
UID:515@transportminutes.eu
DTSTART;TZID=Europe/Vienna:20260609T103000
DTEND;TZID=Europe/Vienna:20260609T140000
DTSTAMP:20260409T065058Z
URL:https://www.transportminutes.eu/events/konference-rail-business-days-2
 026/
SUMMARY:Konference RAIL BUSINESS DAYS 2026
DESCRIPTION:\n10.30–10.45\n\nÚvodní proslovy k aktuální situaci v že
 lezniční dopravě v ČR\n\n\n 	Ivan Bednárik\, ministr\, Ministerstvo d
 opravy\n 	Michal Krapinec\, generální ředitel\, České dráhy\n 	Tomá
 š Tóth\, generální ředitel\, Správa železnic\n 	Radek Podstawka\, n
 áměstek hejtmana pro dopravu\, Moravskoslezský kraj\n 	Zdeněk Chrdle\,
  generální ředitel\, AŽD\n\n\n\n\n\n10.45–11.15\n\nDiskusní panel: 
 Zásadní infrastrukturní projekty české železnice do roku 2030\n\n\n 
 	Ivan Bednárik\, ministr\, Ministerstvo dopravy\n 	Tomáš Tóth\, gener
 ální ředitel\, Správa železnic\n\n\n\n\n\n11.15–12.00\n\nDiskusní 
 panel: Bateriové vlaky a rychlovlaky v Česku\n\n\n 	Tomáš Ignačák\, 
 místopředseda představenstva\, Škoda Group | předseda předsednictva 
 ACRI\n 	Zdeněk Majer\, předseda dozorčí rady\, STADLER Praha\n 	Mirosl
 av Kupec\, jednatel\, PESA Rail CR\n 	Dan Kurucz\, jednatel\, Alstom Czech
  Republic &amp\; Slovakia\n\n\n\n\n\n12:00–12:30\n\nDiskusní panel: Chy
 stané legislativní novinky a změny v železniční dopravě\n\n\n 	Mart
 in Kolovratník\, poslanec PS ČR a předseda správní rady\, Správa že
 leznic\n\n\n\n\n\n12.30–13:30\n\nDiskusní panel: Osobní a nákladní d
 oprava budoucnosti – vozidlový park\, služby\, automatizace\, bezpečn
 ost a kyberbezpečnost\n\n\n 	Jiří Ješeta\, náměstek odpovědný za o
 sobní dopravu\, České dráhy\n 	Radim Ječný\, generální ředitel\, 
 ČD Cargo\n 	Zdeněk Chrdle\, generální ředitel\, AŽD\n 	Martin Bělč
 ík\, generální ředitel\, Výzkumný Ústav Železniční\n 	Martin Ho
 řínek\, prezident\, ŽESNAD CZ\n 	Petr Moravec\, výkonný ředitel\, SV
 OD Bohemia\n\n\n\n\n\n13.30–14.00\n\nUkončení konference a Coffee brea
 k\n\n\n\nVstupenky a další info:  https://railbusinessdays.cz
ATTACH;FMTTYPE=image/jpeg:https://i0.wp.com/www.transportminutes.eu/wp-con
 tent/uploads/2022/02/railbussinesdays.jpg?fit=541%2C228&ssl=1
CATEGORIES:Kongres
LOCATION:Trojhalí Karolína\, Ostrava\, K Trojhalí 3361/5\, Ostrava – M
 oravská Ostrava\, 70200\, Moravskoslezský kraj\, Česká republika
X-APPLE-STRUCTURED-LOCATION;VALUE=URI;X-ADDRESS=K Trojhalí 3361/5\, Ostrav
 a – Moravská Ostrava\, 70200\, Moravskoslezský kraj\, Česká republik
 a;X-APPLE-RADIUS=100;X-TITLE=Trojhalí Karolína\, Ostrava:geo:0,0
END:VEVENT
BEGIN:VTIMEZONE
TZID:Europe/Vienna
X-LIC-LOCATION:Europe/Vienna
BEGIN:DAYLIGHT
DTSTART:20260329T030000
TZOFFSETFROM:+0100
TZOFFSETTO:+0200
TZNAME:CEST
END:DAYLIGHT
END:VTIMEZONE
END:VCALENDAR