BEGIN:VCALENDAR
VERSION:2.0
PRODID:-//wp-events-plugin.com//7.2.3.1//EN
BEGIN:VEVENT
UID:236@transportminutes.eu
DTSTART;TZID=Europe/Vienna:20240411T100000
DTEND;TZID=Europe/Vienna:20240414T170000
DTSTAMP:20231105T072508Z
URL:https://www.transportminutes.eu/events/itf-slovakiatour-3/
SUMMARY:ITF SLOVAKIATOUR
DESCRIPTION:Mezinárodní veletrh cestovního ruchu
CATEGORIES:Veletrh
LOCATION:Incheba Bratislava\, Viedenská cesta 3-7\, Bratislava\, Bratislav
 ský kraj\, 85101\, Slovensko
GEO:48.13618;17.10346
X-APPLE-STRUCTURED-LOCATION;VALUE=URI;X-ADDRESS=Viedenská cesta 3-7\, Brat
 islava\, Bratislavský kraj\, 85101\, Slovensko;X-APPLE-RADIUS=100;X-TITLE
 =Incheba Bratislava:geo:48.13618,17.10346
END:VEVENT
BEGIN:VTIMEZONE
TZID:Europe/Vienna
X-LIC-LOCATION:Europe/Vienna
BEGIN:DAYLIGHT
DTSTART:20240331T030000
TZOFFSETFROM:+0100
TZOFFSETTO:+0200
TZNAME:CEST
END:DAYLIGHT
END:VTIMEZONE
END:VCALENDAR