BEGIN:VCALENDAR
VERSION:2.0
PRODID:-//wp-events-plugin.com//7.2.3.1//EN
BEGIN:VEVENT
UID:231@transportminutes.eu
DTSTART;TZID=Europe/Vienna:20240305T090000
DTEND;TZID=Europe/Vienna:20240307T170000
DTSTAMP:20231104T120920Z
URL:https://www.transportminutes.eu/events/itb-berlin/
SUMMARY:ITB Berlin
DESCRIPTION:Světový veletrh cestovního ruchu
CATEGORIES:Veletrh
LOCATION:Messe Berlin\, Messedamm 22\, Berlín\, 14057\, Nemecko
GEO:52.504163;13.273677
X-APPLE-STRUCTURED-LOCATION;VALUE=URI;X-ADDRESS=Messedamm 22\, Berlín\, 14
 057\, Nemecko;X-APPLE-RADIUS=100;X-TITLE=Messe Berlin:geo:52.504163,13.273
 677
END:VEVENT
BEGIN:VTIMEZONE
TZID:Europe/Vienna
X-LIC-LOCATION:Europe/Vienna
BEGIN:STANDARD
DTSTART:20231029T020000
TZOFFSETFROM:+0200
TZOFFSETTO:+0100
TZNAME:CET
END:STANDARD
END:VTIMEZONE
END:VCALENDAR