BEGIN:VCALENDAR
VERSION:2.0
PRODID:-//wp-events-plugin.com//7.2.3.1//EN
BEGIN:VEVENT
UID:232@transportminutes.eu
DTSTART;TZID=Europe/Vienna:20240308T090000
DTEND;TZID=Europe/Vienna:20240312T173000
DTSTAMP:20231104T121201Z
URL:https://www.transportminutes.eu/events/internorga/
SUMMARY:INTERNORGA
DESCRIPTION:Mezinárodní veletrh pro hospitality a restaurace
CATEGORIES:Veletrh
LOCATION:Messe & Kongress Hamburg\, Messeplatz 1\, Hamburg\, Hamburg\, 2035
 7\, Hamburg\, Nemecko
GEO:53.563118;9.975495
X-APPLE-STRUCTURED-LOCATION;VALUE=URI;X-ADDRESS=Messeplatz 1\, Hamburg\, Ha
 mburg\, 20357\, Hamburg\, Nemecko;X-APPLE-RADIUS=100;X-TITLE=Messe & Kongr
 ess Hamburg:geo:53.563118,9.975495
END:VEVENT
BEGIN:VTIMEZONE
TZID:Europe/Vienna
X-LIC-LOCATION:Europe/Vienna
BEGIN:STANDARD
DTSTART:20231029T020000
TZOFFSETFROM:+0200
TZOFFSETTO:+0100
TZNAME:CET
END:STANDARD
END:VTIMEZONE
END:VCALENDAR