BEGIN:VCALENDAR
VERSION:2.0
PRODID:-//wp-events-plugin.com//7.2.3.1//EN
BEGIN:VEVENT
UID:391@transportminutes.eu
DTSTART;TZID=Europe/Berlin:20260313T090000
DTEND;TZID=Europe/Berlin:20260317T170000
DTSTAMP:20251227T095552Z
URL:https://www.transportminutes.eu/events/internorga-2/
SUMMARY:INTERNORGA
DESCRIPTION:Mezinárodní odborný veletrh pro obor hospitality a stravová
 ní
CATEGORIES:Veletrh
LOCATION:Messe & Kongress Hamburg\, Messeplatz 1\, Hamburg\, Hamburg\, 2035
 7\, Hamburg\, Nemecko
GEO:53.563118;9.975495
X-APPLE-STRUCTURED-LOCATION;VALUE=URI;X-ADDRESS=Messeplatz 1\, Hamburg\, Ha
 mburg\, 20357\, Hamburg\, Nemecko;X-APPLE-RADIUS=100;X-TITLE=Messe & Kongr
 ess Hamburg:geo:53.563118,9.975495
END:VEVENT
BEGIN:VTIMEZONE
TZID:Europe/Berlin
X-LIC-LOCATION:Europe/Berlin
BEGIN:STANDARD
DTSTART:20251026T020000
TZOFFSETFROM:+0200
TZOFFSETTO:+0100
TZNAME:CET
END:STANDARD
END:VTIMEZONE
END:VCALENDAR