BEGIN:VCALENDAR
VERSION:2.0
PRODID:-//wp-events-plugin.com//7.2.3.1//EN
BEGIN:VEVENT
UID:299@transportminutes.eu
DTSTART;TZID=Europe/Vienna:20251007T090000
DTEND;TZID=Europe/Vienna:20251009T170000
DTSTAMP:20240922T103553Z
URL:https://www.transportminutes.eu/events/inter-airport-europe/
SUMMARY:INTER AIRPORT EUROPE
DESCRIPTION:Mezinárodní veletrh vybavení letišť\, technologií\, desig
 nu a služeb
CATEGORIES:Veletrh
LOCATION:Messe München\, Am Messesee 2\, München\, Bavorsko\, 81829\, Nem
 ecko
GEO:48.13535;11.69263
X-APPLE-STRUCTURED-LOCATION;VALUE=URI;X-ADDRESS=Am Messesee 2\, München\, 
 Bavorsko\, 81829\, Nemecko;X-APPLE-RADIUS=100;X-TITLE=Messe München:geo:4
 8.13535,11.69263
END:VEVENT
BEGIN:VTIMEZONE
TZID:Europe/Vienna
X-LIC-LOCATION:Europe/Vienna
BEGIN:DAYLIGHT
DTSTART:20250330T030000
TZOFFSETFROM:+0100
TZOFFSETTO:+0200
TZNAME:CEST
END:DAYLIGHT
END:VTIMEZONE
END:VCALENDAR