BEGIN:VCALENDAR
VERSION:2.0
PRODID:-//wp-events-plugin.com//7.2.3.1//EN
BEGIN:VEVENT
UID:390@transportminutes.eu
DTSTART;TZID=Europe/Berlin:20260304T090000
DTEND;TZID=Europe/Berlin:20260308T170000
DTSTAMP:20251227T083700Z
URL:https://www.transportminutes.eu/events/freizeit-touristik-garten-2/
SUMMARY:FREIZEIT - TOURISTIK - GARTEN
DESCRIPTION:Veletrh pro volný čas\, turistiku a zahradu
CATEGORIES:Veletrh
LOCATION:Messe Nürnberg\, Messezentrum 1\, Nürnberg\, 90471\, Nemecko
GEO:49.422036;11.118654
X-APPLE-STRUCTURED-LOCATION;VALUE=URI;X-ADDRESS=Messezentrum 1\, Nürnberg\
 , 90471\, Nemecko;X-APPLE-RADIUS=100;X-TITLE=Messe Nürnberg:geo:49.422036
 ,11.118654
END:VEVENT
BEGIN:VTIMEZONE
TZID:Europe/Berlin
X-LIC-LOCATION:Europe/Berlin
BEGIN:STANDARD
DTSTART:20251026T020000
TZOFFSETFROM:+0200
TZOFFSETTO:+0100
TZNAME:CET
END:STANDARD
END:VTIMEZONE
END:VCALENDAR