BEGIN:VCALENDAR
VERSION:2.0
PRODID:-//wp-events-plugin.com//7.2.3.1//EN
BEGIN:VEVENT
UID:495@transportminutes.eu
DTSTART;TZID=Europe/Prague:20260320T090000
DTEND;TZID=Europe/Prague:20260322T170000
DTSTAMP:20260115T174821Z
URL:https://www.transportminutes.eu/events/for-caravan-3/
SUMMARY:For Caravan
DESCRIPTION:Výstava obytných automobilů a karavanů
CATEGORIES:Veletrh
LOCATION:Expo Praha\, Letňany\, Beranových 667\, Praha 9 - Letňany\, Pra
 ha\, 19909\, Česká republika
GEO:50.129852;14.515666
X-APPLE-STRUCTURED-LOCATION;VALUE=URI;X-ADDRESS=Beranových 667\, Praha 9 -
  Letňany\, Praha\, 19909\, Česká republika;X-APPLE-RADIUS=100;X-TITLE=E
 xpo Praha\, Letňany:geo:50.129852,14.515666
END:VEVENT
BEGIN:VTIMEZONE
TZID:Europe/Prague
X-LIC-LOCATION:Europe/Prague
BEGIN:STANDARD
DTSTART:20251026T020000
TZOFFSETFROM:+0200
TZOFFSETTO:+0100
TZNAME:CET
END:STANDARD
END:VTIMEZONE
END:VCALENDAR