BEGIN:VCALENDAR
VERSION:2.0
PRODID:-//wp-events-plugin.com//7.2.3.1//EN
BEGIN:VEVENT
UID:233@transportminutes.eu
DTSTART;TZID=Europe/Vienna:20240314T100000
DTEND;TZID=Europe/Vienna:20240317T180000
DTSTAMP:20231104T121543Z
URL:https://www.transportminutes.eu/events/ferien-messe-wien/
SUMMARY:FERIEN-MESSE WIEN
DESCRIPTION:Mezinárodní veletrh pro dovolenou\, cestování a volný čas
CATEGORIES:Veletrh
LOCATION:Messe Vídeň\, Messeplatz 1\, Vídeň\, A-1020\, Rakousko
GEO:48.217223;16.408559
X-APPLE-STRUCTURED-LOCATION;VALUE=URI;X-ADDRESS=Messeplatz 1\, Vídeň\, A-
 1020\, Rakousko;X-APPLE-RADIUS=100;X-TITLE=Messe Vídeň:geo:48.217223,16.
 408559
END:VEVENT
BEGIN:VTIMEZONE
TZID:Europe/Vienna
X-LIC-LOCATION:Europe/Vienna
BEGIN:STANDARD
DTSTART:20231029T020000
TZOFFSETFROM:+0200
TZOFFSETTO:+0100
TZNAME:CET
END:STANDARD
END:VTIMEZONE
END:VCALENDAR