BEGIN:VCALENDAR
VERSION:2.0
PRODID:-//wp-events-plugin.com//7.2.3.1//EN
BEGIN:VEVENT
UID:373@transportminutes.eu
DTSTART;TZID=Europe/Vienna:20260115T090000
DTEND;TZID=Europe/Vienna:20260118T170000
DTSTAMP:20251220T114308Z
URL:https://www.transportminutes.eu/events/ferien-messe-wien-2/
SUMMARY:Ferien-Messe Wien
DESCRIPTION:Mezinárodní veletrh pro dovolenou\, cestování a volný čas
CATEGORIES:Veletrh
LOCATION:Messe Vídeň\, Messeplatz 1\, Vídeň\, A-1020\, Rakousko
GEO:48.217223;16.408559
X-APPLE-STRUCTURED-LOCATION;VALUE=URI;X-ADDRESS=Messeplatz 1\, Vídeň\, A-
 1020\, Rakousko;X-APPLE-RADIUS=100;X-TITLE=Messe Vídeň:geo:48.217223,16.
 408559
END:VEVENT
BEGIN:VTIMEZONE
TZID:Europe/Vienna
X-LIC-LOCATION:Europe/Vienna
BEGIN:STANDARD
DTSTART:20251026T020000
TZOFFSETFROM:+0200
TZOFFSETTO:+0100
TZNAME:CET
END:STANDARD
END:VTIMEZONE
END:VCALENDAR