BEGIN:VCALENDAR
VERSION:2.0
PRODID:-//wp-events-plugin.com//7.2.3.1//EN
BEGIN:VEVENT
UID:385@transportminutes.eu
DTSTART;TZID=Europe/Berlin:20260218T090000
DTEND;TZID=Europe/Berlin:20260222T180000
DTSTAMP:20251227T044108Z
URL:https://www.transportminutes.eu/events/f-re-e-3/
SUMMARY:F.RE.E.
DESCRIPTION:Mezinárodní veletrh cestovního ruchu a volného času
CATEGORIES:Veletrh
LOCATION:Messe München\, Am Messesee 2\, München\, Bavorsko\, 81829\, Nem
 ecko
GEO:48.13535;11.69263
X-APPLE-STRUCTURED-LOCATION;VALUE=URI;X-ADDRESS=Am Messesee 2\, München\, 
 Bavorsko\, 81829\, Nemecko;X-APPLE-RADIUS=100;X-TITLE=Messe München:geo:4
 8.13535,11.69263
END:VEVENT
BEGIN:VTIMEZONE
TZID:Europe/Berlin
X-LIC-LOCATION:Europe/Berlin
BEGIN:STANDARD
DTSTART:20251026T020000
TZOFFSETFROM:+0200
TZOFFSETTO:+0100
TZNAME:CET
END:STANDARD
END:VTIMEZONE
END:VCALENDAR