BEGIN:VCALENDAR
VERSION:2.0
PRODID:-//wp-events-plugin.com//7.2.3.1//EN
BEGIN:VEVENT
UID:238@transportminutes.eu
DTSTART;TZID=Europe/Prague:20231109T090000
DTEND;TZID=Europe/Prague:20231112T160000
DTSTAMP:20231105T110444Z
URL:https://www.transportminutes.eu/events/e-salon-2023/
SUMMARY:e-Salon 2023
DESCRIPTION:Veletrh čisté mobility\, technologií a řešení pro e-mobil
 itu\n\nPátý ročník veletrhu čisté mobility\, který se uskuteční 
 9.–12. listopadu\, bude přehlídkou s nejbohatší účastí elektromob
 ilů\, hybridů a dalších ekologických vozidel a dopravních prostředk
 ů ve své historii. K testování bude k dispozici doposud největší vo
 zový park ekologických vozů. Minulý ročník oblíbeného veletrhu nav
 štívilo přes 20 000 lidí. Přijďte se podívat\, jak vypadá budoucn
 ost!\n\nOTEVÍRACÍ DOBA\n\n 	\n\n 	čtvrtek: 9.00 - 17.00 hod\n 	pátek -
  sobota: 10.00 - 17.00 hod\n 	neděle: 10.00 - 16.00 hod\n\n\n\n\n 	\n
ATTACH;FMTTYPE=image/jpeg:https://i0.wp.com/www.transportminutes.eu/wp-con
 tent/uploads/2023/11/e-salon-inception0.webp?fit=800%2C513&ssl=1
CATEGORIES:Doprava,Výstavy
LOCATION:Expo Praha\, Letňany\, Beranových 667\, Praha 9 - Letňany\, Pra
 ha\, 19909\, Česká republika
GEO:50.129852;14.515666
X-APPLE-STRUCTURED-LOCATION;VALUE=URI;X-ADDRESS=Beranových 667\, Praha 9 -
  Letňany\, Praha\, 19909\, Česká republika;X-APPLE-RADIUS=100;X-TITLE=E
 xpo Praha\, Letňany:geo:50.129852,14.515666
END:VEVENT
BEGIN:VTIMEZONE
TZID:Europe/Prague
X-LIC-LOCATION:Europe/Prague
BEGIN:STANDARD
DTSTART:20231029T020000
TZOFFSETFROM:+0200
TZOFFSETTO:+0100
TZNAME:CET
END:STANDARD
END:VTIMEZONE
END:VCALENDAR