BEGIN:VCALENDAR
VERSION:2.0
PRODID:-//wp-events-plugin.com//7.2.3.1//EN
BEGIN:VEVENT
UID:230@transportminutes.eu
DTSTART;TZID=Europe/Vienna:20240301T090000
DTEND;TZID=Europe/Vienna:20240302T170000
DTSTAMP:20231104T120717Z
URL:https://www.transportminutes.eu/events/dovolena-2/
SUMMARY:Dovolená
DESCRIPTION:Veletrh cestovního ruchu
CATEGORIES:Veletrh
LOCATION:Výstaviště Černá Louka - Ostrava\, Černá louka 3235\, Ostra
 va\, Moravskoslezský kraj\, 702 00\, Ostrava-Moravská Ostrava\, Česká 
 republika
X-APPLE-STRUCTURED-LOCATION;VALUE=URI;X-ADDRESS=Černá louka 3235\, Ostrav
 a\, Moravskoslezský kraj\, 702 00\, Ostrava-Moravská Ostrava\, Česká r
 epublika;X-APPLE-RADIUS=100;X-TITLE=Výstaviště Černá Louka - Ostrava:
 geo:0,0
END:VEVENT
BEGIN:VTIMEZONE
TZID:Europe/Vienna
X-LIC-LOCATION:Europe/Vienna
BEGIN:STANDARD
DTSTART:20231029T020000
TZOFFSETFROM:+0200
TZOFFSETTO:+0100
TZNAME:CET
END:STANDARD
END:VTIMEZONE
END:VCALENDAR