BEGIN:VCALENDAR
VERSION:2.0
PRODID:-//wp-events-plugin.com//7.2.3.1//EN
BEGIN:VEVENT
UID:193@transportminutes.eu
DTSTART;TZID=Europe/Vienna:20230909T100000
DTEND;TZID=Europe/Vienna:20230909T170000
DTSTAMP:20230906T084047Z
URL:https://www.transportminutes.eu/events/den-otevrenych-dveri-bratislavs
 ke-mhd/
SUMMARY:Den otevřených dveří Bratislavské MHD
DESCRIPTION:Dopravní podnik Bratislavy připravil pro velké i malé fanou
 šky MHD a dopravy kulturně zábavný program. Najdete zde vystavené vš
 echny vozy MHD\, ale také si pochutnáte na langoších\, cikánské nebo
  sladných buchtách. Energii na celý den vám dodá kavárnička. Mlsné
  jazyky potěší skvělá zmrzlina nebo cukrová vata\, s chuťovými skl
 eničkami si zase zahrají vinaři.\n\nAuto nechte doma\, během soboty v
 ás na DOD vezmou kromě běžných linek i mimořádné linky – tramvaj
 ová linka X7 a autobusová linka X56. Ta bude zároveň spojovat DOD se 
 železniční akcí Rendez\, díky čemuž budete moci v rámci jednoho dn
 e navštívit dvě dopravní akce. Kompletní jízdní řády najdete na w
 ebu dopravce (dpb.sk) \n\n\nTrasa linky X7:\nRača\, Komisařky - Račian
 ské mýtné - Krížna - Trnavské mýtné - Depo Jurajův Dvůr.\n\n\nTr
 asa linky X56:\nDetvianska - Rušňové depo I (Rendez) - Zlaté písky - 
 Depo Jurajův Dvůr - přejezd depem - Depo Trnávka.\n
CATEGORIES:Den otevřených dveří
LOCATION:DP Bratislava - Jurajov Dvur\, vozovna Jurajov dvor\, Bratislava\,
  83104\, Slovensko
GEO:48.181183;17.161545
X-APPLE-STRUCTURED-LOCATION;VALUE=URI;X-ADDRESS=vozovna Jurajov dvor\, Brat
 islava\, 83104\, Slovensko;X-APPLE-RADIUS=100;X-TITLE=DP Bratislava - Jura
 jov Dvur:geo:48.181183,17.161545
END:VEVENT
BEGIN:VTIMEZONE
TZID:Europe/Vienna
X-LIC-LOCATION:Europe/Vienna
BEGIN:DAYLIGHT
DTSTART:20230326T030000
TZOFFSETFROM:+0100
TZOFFSETTO:+0200
TZNAME:CEST
END:DAYLIGHT
END:VTIMEZONE
END:VCALENDAR