BEGIN:VCALENDAR
VERSION:2.0
PRODID:-//wp-events-plugin.com//7.2.3.1//EN
BEGIN:VEVENT
UID:374@transportminutes.eu
DTSTART;TZID=Europe/Vienna:20260117T090000
DTEND;TZID=Europe/Vienna:20260125T170000
DTSTAMP:20251220T174722Z
URL:https://www.transportminutes.eu/events/cmt-2/
SUMMARY:CMT
DESCRIPTION:Mezinárodní veletrh pro turistiku a volný čas
CATEGORIES:Veletrh
LOCATION:Messe Stuttgart\, Messepiazza 1\, Stuttgart\, 70629\, Nemecko
GEO:48.69369;9.192669
X-APPLE-STRUCTURED-LOCATION;VALUE=URI;X-ADDRESS=Messepiazza 1\, Stuttgart\,
  70629\, Nemecko;X-APPLE-RADIUS=100;X-TITLE=Messe Stuttgart:geo:48.69369,9
 .192669
END:VEVENT
BEGIN:VTIMEZONE
TZID:Europe/Vienna
X-LIC-LOCATION:Europe/Vienna
BEGIN:STANDARD
DTSTART:20251026T020000
TZOFFSETFROM:+0200
TZOFFSETTO:+0100
TZNAME:CET
END:STANDARD
END:VTIMEZONE
END:VCALENDAR