BEGIN:VCALENDAR
VERSION:2.0
PRODID:-//wp-events-plugin.com//7.2.3.1//EN
BEGIN:VEVENT
UID:346@transportminutes.eu
DTSTART;TZID=Europe/Vienna:20250829T090000
DTEND;TZID=Europe/Vienna:20250907T170000
DTSTAMP:20250429T184752Z
URL:https://www.transportminutes.eu/events/caravan-salon-dusseldorf-4/
SUMMARY:Caravan Salon Düsseldorf
DESCRIPTION:Světový veletrh karavanů
CATEGORIES:Veletrh
LOCATION:Messe Düsseldorf\, Stockumer Kirchstraße 61\, Düsseldorf\, 4047
 4\, Nemecko
GEO:51.26182;6.73773
X-APPLE-STRUCTURED-LOCATION;VALUE=URI;X-ADDRESS=Stockumer Kirchstraße 61\,
  Düsseldorf\, 40474\, Nemecko;X-APPLE-RADIUS=100;X-TITLE=Messe Düsseldor
 f:geo:51.26182,6.73773
END:VEVENT
BEGIN:VTIMEZONE
TZID:Europe/Vienna
X-LIC-LOCATION:Europe/Vienna
BEGIN:DAYLIGHT
DTSTART:20250330T030000
TZOFFSETFROM:+0100
TZOFFSETTO:+0200
TZNAME:CEST
END:DAYLIGHT
END:VTIMEZONE
END:VCALENDAR