BEGIN:VCALENDAR
VERSION:2.0
PRODID:-//wp-events-plugin.com//7.2.3.1//EN
BEGIN:VEVENT
UID:190@transportminutes.eu
DTSTART;TZID=Europe/Vienna:20231122T100000
DTEND;TZID=Europe/Vienna:20231123T170000
DTSTAMP:20230904T101350Z
URL:https://www.transportminutes.eu/events/btb-bus-travel-business/
SUMMARY:BTB - BUS TRAVEL BUSINESS
DESCRIPTION:Odborný veletrh pro autobusovou a skupinovou turistiku včetn
 ě dodavatelských a servisních odvětví
CATEGORIES:Doprava,Veletrh
LOCATION:Red Bull Ring Austria\, Red Bull Ring Straße 1\, Spielberg\, 8724
 \, Štýrsko\, Rakousko
GEO:47.220171;14.761914
X-APPLE-STRUCTURED-LOCATION;VALUE=URI;X-ADDRESS=Red Bull Ring Straße 1\, S
 pielberg\, 8724\, Štýrsko\, Rakousko;X-APPLE-RADIUS=100;X-TITLE=Red Bull
  Ring Austria:geo:47.220171,14.761914
END:VEVENT
BEGIN:VTIMEZONE
TZID:Europe/Vienna
X-LIC-LOCATION:Europe/Vienna
BEGIN:STANDARD
DTSTART:20231029T020000
TZOFFSETFROM:+0200
TZOFFSETTO:+0100
TZNAME:CET
END:STANDARD
END:VTIMEZONE
END:VCALENDAR