BEGIN:VCALENDAR
VERSION:2.0
PRODID:-//wp-events-plugin.com//7.2.3.1//EN
BEGIN:VEVENT
UID:301@transportminutes.eu
DTSTART;TZID=Europe/Brussels:20250110T090000
DTEND;TZID=Europe/Brussels:20250119T170000
DTSTAMP:20241210T175841Z
URL:https://www.transportminutes.eu/events/brussels-motor-show/
SUMMARY:Brussels motor show
DESCRIPTION:Bruselský autosalon\, tentokrát zaměřený na zaměříme na
  osobní automobily pro volný čas\, lehká užitková vozidla (dodávky)
  a rekreační vozidla.
CATEGORIES:Doprava,Výstavy
LOCATION:FISA Brusel\, Trademart Square de l’Atomium 1\, Brusel\, B-1020\
 , Brusel\, Belgie
GEO:50.897809;4.342731
X-APPLE-STRUCTURED-LOCATION;VALUE=URI;X-ADDRESS=Trademart Square de l’Ato
 mium 1\, Brusel\, B-1020\, Brusel\, Belgie;X-APPLE-RADIUS=100;X-TITLE=FISA
  Brusel:geo:50.897809,4.342731
END:VEVENT
BEGIN:VTIMEZONE
TZID:Europe/Brussels
X-LIC-LOCATION:Europe/Brussels
BEGIN:STANDARD
DTSTART:20241027T020000
TZOFFSETFROM:+0200
TZOFFSETTO:+0100
TZNAME:CET
END:STANDARD
END:VTIMEZONE
END:VCALENDAR