BEGIN:VCALENDAR
VERSION:2.0
PRODID:-//wp-events-plugin.com//7.2.3.1//EN
BEGIN:VEVENT
UID:294@transportminutes.eu
DTSTART;TZID=Europe/Vienna:20250121T090000
DTEND;TZID=Europe/Vienna:20250124T170000
DTSTAMP:20240922T080142Z
URL:https://www.transportminutes.eu/events/autozum-salzburg/
SUMMARY:Autozum Salzburg
DESCRIPTION:Mezinárodní odborný veletrh poprodejních služeb pro automo
 bily. Autodíly\, vybavení dílen\, čerpacích stanic\, myček\, přísl
 ušenství a individualizace.
CATEGORIES:Veletrh
LOCATION:Messe Salzburg\, Am Messezentrum 1\, Salzburg\, 5020\, Rakousko
X-APPLE-STRUCTURED-LOCATION;VALUE=URI;X-ADDRESS=Am Messezentrum 1\, Salzbur
 g\, 5020\, Rakousko;X-APPLE-RADIUS=100;X-TITLE=Messe Salzburg:geo:0,0
END:VEVENT
BEGIN:VTIMEZONE
TZID:Europe/Vienna
X-LIC-LOCATION:Europe/Vienna
BEGIN:STANDARD
DTSTART:20241027T020000
TZOFFSETFROM:+0200
TZOFFSETTO:+0100
TZNAME:CET
END:STANDARD
END:VTIMEZONE
END:VCALENDAR