BEGIN:VCALENDAR
VERSION:2.0
PRODID:-//wp-events-plugin.com//7.2.3.1//EN
BEGIN:VEVENT
UID:361@transportminutes.eu
DTSTART;TZID=Europe/Vienna:20251009T090000
DTEND;TZID=Europe/Vienna:20251012T170000
DTSTAMP:20250429T203631Z
URL:https://www.transportminutes.eu/events/autosalon-autoshow-nitra-2/
SUMMARY:AUTOSALÓN AUTOSHOW NITRA
DESCRIPTION:Přehlídka osobních\, užitkových a nákladných automobilů
 \, autopříslušenství\, servisní i garážové techniky
CATEGORIES:Výstavy
LOCATION:Nitra - Agrokomplex\, Výstavná 654/4\, Nitra\, Nitranský kraj\,
  94901\, Nitra\, Slovensko
X-APPLE-STRUCTURED-LOCATION;VALUE=URI;X-ADDRESS=Výstavná 654/4\, Nitra\, 
 Nitranský kraj\, 94901\, Nitra\, Slovensko;X-APPLE-RADIUS=100;X-TITLE=Nit
 ra - Agrokomplex:geo:0,0
END:VEVENT
BEGIN:VTIMEZONE
TZID:Europe/Vienna
X-LIC-LOCATION:Europe/Vienna
BEGIN:DAYLIGHT
DTSTART:20250330T030000
TZOFFSETFROM:+0100
TZOFFSETTO:+0200
TZNAME:CEST
END:DAYLIGHT
END:VTIMEZONE
END:VCALENDAR