BEGIN:VCALENDAR
VERSION:2.0
PRODID:-//wp-events-plugin.com//7.2.3.1//EN
BEGIN:VEVENT
UID:503@transportminutes.eu
DTSTART;TZID=Europe/Prague:20260405T070000
DTEND;TZID=Europe/Prague:20260405T120000
DTSTAMP:20260123T041135Z
URL:https://www.transportminutes.eu/events/automoto-burza-2/
SUMMARY:Automoto burza
DESCRIPTION:Neděle 5. dubna bude patřit na Výstavišti v Kroměříži v
 šem nadšencům Auto moto\, krásných nablýskaných veteránů a sběra
 telům.\n\nTradiční prodejní burza nabídne různé motoristické náh
 radní díly a součástky\, komponenty pro zemědělskou\, hasičskou a v
 ojenskou techniku.\n\nK dostání budou i starožitnosti a sběratelské 
 předměty - mince\, poštovní známky\, bankovky\, pohledy\, odznaky\, 
 medaile atd.\n\nMajitelé historických vozidel mají vstup zdarma\, své 
 skvosty mohou vystavit na vyhrazeném parkovišti na zadní ploše G.\nCen
 ík\n\n\n\nzákladní vstupné\n70\,-\n\n\nděti do 150 cm\nzdarma\n\n\nZT
 P\nzdarma\n\n\nZTP/P\nzdarma i s doprovodem\n\n\n\nParkování\n\n\n\nPark
 ovné\n20\,-Kč\n\n\n
CATEGORIES:Burza
LOCATION:Výstaviště Kroměříž\, K Výstavišti 4069/8\, Kroměříž\
 , Zlínský kraj\, 76701\, Česká republika
X-APPLE-STRUCTURED-LOCATION;VALUE=URI;X-ADDRESS=K Výstavišti 4069/8\, Kro
 měříž\, Zlínský kraj\, 76701\, Česká republika;X-APPLE-RADIUS=100;
 X-TITLE=Výstaviště Kroměříž:geo:0,0
END:VEVENT
BEGIN:VTIMEZONE
TZID:Europe/Prague
X-LIC-LOCATION:Europe/Prague
BEGIN:DAYLIGHT
DTSTART:20260329T030000
TZOFFSETFROM:+0100
TZOFFSETTO:+0200
TZNAME:CEST
END:DAYLIGHT
END:VTIMEZONE
END:VCALENDAR