BEGIN:VCALENDAR
VERSION:2.0
PRODID:-//wp-events-plugin.com//7.2.3.1//EN
BEGIN:VEVENT
UID:511@transportminutes.eu
DTSTART;TZID=Europe/Vienna:20260516T090000
DTEND;TZID=Europe/Vienna:20260516T170000
DTSTAMP:20260309T175913Z
URL:https://www.transportminutes.eu/events/autobusovy-den-pid/
SUMMARY:Autobusový den PID
DESCRIPTION:Již 9. ročník oblíbené akce Pražské integrované dopravy
  nabídne výstavu autobusů dopravců zapojených do systému PID i pestr
 ý doprovodný program pro malé i velké návštěvníky. Chybět nebudou
  ani vyhlídkové jízdy historickými autobusy\, které zájemce zavezou 
 nejen do turisticky atraktivních míst. Akce se letos již potřetí usku
 teční na pražské Letenské pláni.
CATEGORIES:Doprava
LOCATION:https://pid.cz/plan-akci-pid-v-roce-2026/
END:VEVENT
BEGIN:VTIMEZONE
TZID:Europe/Vienna
X-LIC-LOCATION:Europe/Vienna
BEGIN:DAYLIGHT
DTSTART:20260329T030000
TZOFFSETFROM:+0100
TZOFFSETTO:+0200
TZNAME:CEST
END:DAYLIGHT
END:VTIMEZONE
END:VCALENDAR