BEGIN:VCALENDAR
VERSION:2.0
PRODID:-//wp-events-plugin.com//7.2.3.1//EN
BEGIN:VEVENT
UID:347@transportminutes.eu
DTSTART;TZID=Europe/Vienna:20250829T090000
DTEND;TZID=Europe/Vienna:20250830T173000
DTSTAMP:20250429T185052Z
URL:https://www.transportminutes.eu/events/all-american-fest/
SUMMARY:All American Fest
DESCRIPTION:To nejlepší z amerických motocyklů\, kár\, gastronomie\, s
 portů a zábavy. PRAGUE HARLEY DAYS\, ADRENALIN A FMX\, SMOKE &amp\; FIRE
  FOOD FEST
CATEGORIES:Veletrh
LOCATION:Výstaviště Praha\, Výstaviště 67\, Praha\, 170 00\, Česká 
 republika
X-APPLE-STRUCTURED-LOCATION;VALUE=URI;X-ADDRESS=Výstaviště 67\, Praha\, 
 170 00\, Česká republika;X-APPLE-RADIUS=100;X-TITLE=Výstaviště Praha:
 geo:0,0
END:VEVENT
BEGIN:VTIMEZONE
TZID:Europe/Vienna
X-LIC-LOCATION:Europe/Vienna
BEGIN:DAYLIGHT
DTSTART:20250330T030000
TZOFFSETFROM:+0100
TZOFFSETTO:+0200
TZNAME:CEST
END:DAYLIGHT
END:VTIMEZONE
END:VCALENDAR